BEGIN:VCALENDAR
VERSION:2.0
PRODID:-//InvisionCommunity Events 4.7.14//EN
METHOD:PUBLISH
CALSCALE:GREGORIAN
REFRESH-INTERVAL:PT15M
X-PUBLISHED-TTL:PT15M
X-WR-CALNAME:The Elder Scrolls Online
NAME:The Elder Scrolls Online
BEGIN:VTIMEZONE
TZID:Europe/London
TZURL:http://tzurl.org/zoneinfo/Europe/London
X-LIC-LOCATION:Europe/London
BEGIN:DAYLIGHT
TZOFFSETFROM:+0000
TZOFFSETTO:+0100
TZNAME:BST
DTSTART:20210328T020000Z
RRULE:FREQ=YEARLY;BYMONTH=3;BYDAY=-1SU
END:DAYLIGHT
BEGIN:STANDARD
TZOFFSETFROM:+0100
TZOFFSETTO:+0000
TZNAME:GMT
DTSTART:20211031T020000Z
RRULE:FREQ=YEARLY;BYMONTH=10;BYDAY=-1SU
END:STANDARD
END:VTIMEZONE
BEGIN:VEVENT
SUMMARY:[TESO] обучающее испытание 
	вет Солнечный шпиль (Sun Spire)
DTSTAMP:20210410T094104Z
SEQUENCE:0
UID:9095-1-afb15bc42254ad5fb0481ce5e9c8144d@forum.bandits-clan.ru
ORGANIZER;CN="Semeckiy ":web@bandits-clan.ru
DESCRIPTION:\n	Пригл
	ашаю согильдийцев
	 поучиться проходить вете
	ранскую версию триала Sun Spire.\n
	\n\n\n	Приглашаются 2 танк\, 2 хи
	ла\, 7 дд. Сам пойду дд
	.\n\n\n\n	Обязательна у
	становка и настройка следующих аддо
	нов:\n\n	Всем:\nhttps://www.esoui.com/downloads/info1855-CodesComba
	tAlerts.html\nhttps://www.esoui.com/downloads/info2430-HowToSunspire.html\
	nhttps://www.esoui.com/downloads/info2311-HodorReflexes-DPSUltimateShare.h
	tml\n\n	Танкам:\nhttps://www.esoui.com/downloads/info1475-Untaunted.
	html\nhttps://www.esoui.com/downloads/info2555-StaggerTracker.html\n\n\n\n
		Триал слож
	ный\, наст
	оящее ветер
	анское приключени
	е. Поэтому будут оп
	ределенные требов
	ания: от 600 чп\, у
	 танков и хи
	лов наличи
	е обязатель
	ных сетов (прош
	у хилов ознако
	миться с акту
	альным гайдом о
	т Лисбрейни)\, у д
	д наличие минимал
	ьно приличного дпс-
	а от 30к. Будет суп
	ер\, если дд собе
	рут сетап под т
	реш паки (мастерс
	кий грозовой посох\, 
	бсв\, механикл ак
	ьюити\, нью мун
	 аколайт и проч.)
	\, обязательн
	ое использова
	ние нормальных
	 банок и проч.\,
	 отключенная а
	нонимность. Б
	уду писать логи
	 и смотреть за ка
	ждым. Это не ра
	звлекательны
	й забег\, а нор
	мальный рейд
	\, поэтому и т
	ребования 
	соответств
	ующие. До н
	ачала событи
	я хилам и тан
	кам договори
	ться об испол
	ьзовании сето
	в\, чтобы бафы не п
	ересекались. Хилам и
	меть сетап на бурстовый
	 отхил.\n\n\n\n	Cбор в гильд
	холле за 30 минут д
	о начала события (
	20:30 МСК). Присутствие в
	 дискорде обязательно (х
	отя бы на приём).\n\n\n\n	Приорите
	т тем\, кто был на событии 31/03/
	2021 г.\n\n\n\n	Не хочу до
	бирать кого 
	попало из ги
	льд чата\, п
	оэтому про
	шу всех подо
	йти ответст
	венно и записыватьс
	я заранее. Приоритет дд\, прошедшим 
	аттестацию.\n\n\n\n	 \n
DTSTART:20210414T180000Z
DTEND:20210414T180500Z
ATTENDEE;CN="Semeckiy ";CUTYPE=INDIVIDUAL;PARTSTAT=ACCEPTED:
	web@bandits-clan.ru
ATTENDEE;CN="Dmitriyvaulin";CUTYPE=INDIVIDUAL;PARTSTAT=ACCEP
	TED:web@bandits-clan.ru
ATTENDEE;CN="burava1";CUTYPE=INDIVIDUAL;PARTSTAT=ACCEPTED:we
	b@bandits-clan.ru
ATTENDEE;CN="kaledney";CUTYPE=INDIVIDUAL;PARTSTAT=ACCEPTED:w
	eb@bandits-clan.ru
ATTENDEE;CN="iRaa58";CUTYPE=INDIVIDUAL;PARTSTAT=ACCEPTED:web
	@bandits-clan.ru
ATTENDEE;CN="SKIL1";CUTYPE=INDIVIDUAL;PARTSTAT=ACCEPTED:web@
	bandits-clan.ru
END:VEVENT
END:VCALENDAR
