BEGIN:VCALENDAR
VERSION:2.0
PRODID:-//InvisionCommunity Events 4.7.14//EN
METHOD:PUBLISH
CALSCALE:GREGORIAN
REFRESH-INTERVAL:PT15M
X-PUBLISHED-TTL:PT15M
X-WR-CALNAME:The Elder Scrolls Online
NAME:The Elder Scrolls Online
BEGIN:VTIMEZONE
TZID:Europe/London
TZURL:http://tzurl.org/zoneinfo/Europe/London
X-LIC-LOCATION:Europe/London
BEGIN:DAYLIGHT
TZOFFSETFROM:+0000
TZOFFSETTO:+0100
TZNAME:BST
DTSTART:20210328T020000Z
RRULE:FREQ=YEARLY;BYMONTH=3;BYDAY=-1SU
END:DAYLIGHT
BEGIN:STANDARD
TZOFFSETFROM:+0100
TZOFFSETTO:+0000
TZNAME:GMT
DTSTART:20211031T020000Z
RRULE:FREQ=YEARLY;BYMONTH=10;BYDAY=-1SU
END:STANDARD
END:VTIMEZONE
BEGIN:VEVENT
SUMMARY:[TESO] Изоляционный Санктуа
	рий ветеранский режим(vAS+0)
DTSTAMP:20210409T192321Z
SEQUENCE:0
UID:9093-1-afb15bc42254ad5fb0481ce5e9c8144d@forum.bandits-clan.ru
ORGANIZER;CN="F4N7":web@bandits-clan.ru
DESCRIPTION:\n	В 13-30 по МСК\n\n\n\n	П
	риглашаю всех
	 желающих от 
	600 ОГ и выше 
	пройти учебное Ис
	пытание ветеран Изоляцио
	нный Санктуарий\n\n\n\n	Состав:\n\n
		1 танк\, 2 хила\, 9 дд\n\n\n\n	Тр
	ебования:\n\n	- Для танка
	 и хилера - аттестация вете
	ран\n\n	- Для дд - наличие дп
	с 70к дпс(21 млн)\n\n	- Установленные аддоны 
	Code's Combat Alerts\, Raid Notifier и Hodor Reflexes\n\n
		- Распределение О
	Г согласно гайд
	у (пока не актуально)\n
	\n	- Наличие одетой
	 гидейской накидки\n\n
	\n\n	Сбор: голос дискорд в
	 комнате Триал 1\, в игре
	 гильдхолл\n\n\n\n	Событ
	ие продлиться от 
	силы 2-3 часа\,
	 потом вы с
	можете сп
	окойно либо
	 вернуться 
	либо присойде
	нится к нашему ба
	ндитскому дню!(Чем быс
	трее пройдём\, тем л
	егче для вас)\n\n\n\n	Д
	ля участия наж
	имайте слева на 
	кнопку \"Пойду\"\, 
	а в комментарии внизу 
	пишите свою роль и игровой ID(Это обязате
	льно!)\n
DTSTART:20210411T110000Z
ATTENDEE;CN="F4N7";CUTYPE=INDIVIDUAL;PARTSTAT=ACCEPTED:web@b
	andits-clan.ru
ATTENDEE;CN="burava1";CUTYPE=INDIVIDUAL;PARTSTAT=ACCEPTED:we
	b@bandits-clan.ru
ATTENDEE;CN="NekrosOldSchool";CUTYPE=INDIVIDUAL;PARTSTAT=ACC
	EPTED:web@bandits-clan.ru
END:VEVENT
END:VCALENDAR
