BEGIN:VCALENDAR
VERSION:2.0
PRODID:-//InvisionCommunity Events 4.7.14//EN
METHOD:PUBLISH
CALSCALE:GREGORIAN
REFRESH-INTERVAL:PT15M
X-PUBLISHED-TTL:PT15M
X-WR-CALNAME:The Elder Scrolls Online
NAME:The Elder Scrolls Online
BEGIN:VTIMEZONE
TZID:Europe/London
TZURL:http://tzurl.org/zoneinfo/Europe/London
X-LIC-LOCATION:Europe/London
BEGIN:DAYLIGHT
TZOFFSETFROM:+0000
TZOFFSETTO:+0100
TZNAME:BST
DTSTART:20210328T020000Z
RRULE:FREQ=YEARLY;BYMONTH=3;BYDAY=-1SU
END:DAYLIGHT
BEGIN:STANDARD
TZOFFSETFROM:+0100
TZOFFSETTO:+0000
TZNAME:GMT
DTSTART:20211031T020000Z
RRULE:FREQ=YEARLY;BYMONTH=10;BYDAY=-1SU
END:STANDARD
END:VTIMEZONE
BEGIN:VEVENT
SUMMARY:[TESO] Публичные подземелья Вва
	рденфелла
DTSTAMP:20210404T161344Z
SEQUENCE:0
UID:9084-1-afb15bc42254ad5fb0481ce5e9c8144d@forum.bandits-clan.ru
ORGANIZER;CN="Dmitriyvaulin":web@bandits-clan.ru
DESCRIPTION:\n	Приглаш
	аю всех на 
	прохождение
	 публичных подземелий 
	на Вварденфелле - Забытые пу
	стоши (ориг.Forgotten Wastes)\, Нчулефтинг
	 (ориг.Nzhuleftingth). ЛВЛ не важен.\n\n\n\
	n	В Забытых пустошах
	\n\n\n\n		В Родово
	й гробница Дринитов мо
	жно найти книги: Дневник п
	рорицателя (Diviner's Journal)\, Пропов
	едь пробуждающего (Wakener's Sermo
	n).\n	\n	\n		В Пещерах Когоруна
	 можно найти книги: Указ стр
	ажа (Guardian's Decree)\, Приказы о раскопках (Exca
	vation Orders).\n	\n	\n		В том чи
	сле для св
	оей коллекци
	и собрать части для кра
	сивого костюма: Мантия Шестого Дома (Six
	th House Robe Costume).\n	\n\n	В Нчулефтинге\n\
	n\n\n		В этом подз
	емелье\, в
	ы можете заработа
	ть бесплатного питомца\, Двемерско
	го теодолита (Dwemer Theodolite).\n	\n
DTSTART:20210405T160000Z
ATTENDEE;CN="Dmitriyvaulin";CUTYPE=INDIVIDUAL;PARTSTAT=ACCEP
	TED:web@bandits-clan.ru
END:VEVENT
END:VCALENDAR
