BEGIN:VCALENDAR
VERSION:2.0
PRODID:-//InvisionCommunity Events 4.7.14//EN
METHOD:PUBLISH
CALSCALE:GREGORIAN
REFRESH-INTERVAL:PT15M
X-PUBLISHED-TTL:PT15M
X-WR-CALNAME:The Elder Scrolls Online
NAME:The Elder Scrolls Online
BEGIN:VTIMEZONE
TZID:Europe/London
TZURL:http://tzurl.org/zoneinfo/Europe/London
X-LIC-LOCATION:Europe/London
BEGIN:DAYLIGHT
TZOFFSETFROM:+0000
TZOFFSETTO:+0100
TZNAME:BST
DTSTART:20210328T020000Z
RRULE:FREQ=YEARLY;BYMONTH=3;BYDAY=-1SU
END:DAYLIGHT
BEGIN:STANDARD
TZOFFSETFROM:+0100
TZOFFSETTO:+0000
TZNAME:GMT
DTSTART:20211031T020000Z
RRULE:FREQ=YEARLY;BYMONTH=10;BYDAY=-1SU
END:STANDARD
END:VTIMEZONE
BEGIN:VEVENT
SUMMARY:[TESO] Изоляционный санктуарий (
	нормал)
DTSTAMP:20210227T111033Z
SEQUENCE:0
UID:8997-1-afb15bc42254ad5fb0481ce5e9c8144d@forum.bandits-clan.ru
ORGANIZER;CN="Kubik":web@bandits-clan.ru
DESCRIPTION:\n	В 22-00 по МСК\n\n\n\n	При
	глашаю всех жела
	ющих от 160 ОГ 
	по случаю праздни
	ка трибунала пофармить \"И
	золяционный санктуарий\".\n\n\n\n	Со
	став:\n\n	1 танка\, 2 хила\, 9 дд\n\n\
	n\n	Требования:\n\n	- Для та
	нка и хилера - аттестация нормал\
	n\n	- Для дд - наличие дпс 15 000+\
	n\n	- Дополнение Золо
	той Город\n\n	- Налич
	ие одетой гильдейской наки
	дки\n\n\n\n	Длительность ре
	йда 1 час.\n\n\n\n	Для участ
	ия нажимайте слев
	а на кнопку \"Пойду\
	"\, а в комментарии внизу пишите св
	ою роль и игровой ID\n
DTSTART:20210227T180000Z
ATTENDEE;CN="Kubik";CUTYPE=INDIVIDUAL;PARTSTAT=ACCEPTED:web@
	bandits-clan.ru
ATTENDEE;CN="F4N7";CUTYPE=INDIVIDUAL;PARTSTAT=ACCEPTED:web@b
	andits-clan.ru
ATTENDEE;CN="Unterstutzung";CUTYPE=INDIVIDUAL;PARTSTAT=ACCEP
	TED:web@bandits-clan.ru
ATTENDEE;CN="Dmitriyvaulin";CUTYPE=INDIVIDUAL;PARTSTAT=ACCEP
	TED:web@bandits-clan.ru
END:VEVENT
END:VCALENDAR
