BEGIN:VCALENDAR
VERSION:2.0
PRODID:-//InvisionCommunity Events 4.7.14//EN
METHOD:PUBLISH
CALSCALE:GREGORIAN
REFRESH-INTERVAL:PT15M
X-PUBLISHED-TTL:PT15M
X-WR-CALNAME:The Elder Scrolls Online
NAME:The Elder Scrolls Online
BEGIN:VTIMEZONE
TZID:Europe/London
TZURL:http://tzurl.org/zoneinfo/Europe/London
X-LIC-LOCATION:Europe/London
BEGIN:DAYLIGHT
TZOFFSETFROM:+0000
TZOFFSETTO:+0100
TZNAME:BST
DTSTART:20210328T020000Z
RRULE:FREQ=YEARLY;BYMONTH=3;BYDAY=-1SU
END:DAYLIGHT
BEGIN:STANDARD
TZOFFSETFROM:+0100
TZOFFSETTO:+0000
TZNAME:GMT
DTSTART:20211031T020000Z
RRULE:FREQ=YEARLY;BYMONTH=10;BYDAY=-1SU
END:STANDARD
END:VTIMEZONE
BEGIN:VEVENT
SUMMARY:[TESO]Боссы Вварденфелла и З
	аводного города
DTSTAMP:20210226T143030Z
SEQUENCE:0
UID:8996-1-afb15bc42254ad5fb0481ce5e9c8144d@forum.bandits-clan.ru
ORGANIZER;CN="Moxnatochka":web@bandits-clan.ru
DESCRIPTION:\n	Приглаша
	ю всех на фа
	рм мировых
	 боссов Вв
	арденфелл
	а и Заводног
	о города и закрытия
	 ежедневных квестов. Со
	бытие продлится 2 часа. \n\n\n
	\n	При себе Иметь:\n\n\n\n	-Т
	абард Гильдии\n\n\n\n	-Вв
	аарденфел и Заводн
	ой город. \n\n\n\n	Соб
	ытие состоится на канале в дискорде 
	Мировые Боссы\n
DTSTART:20210226T163000Z
DTEND:20210226T183000Z
END:VEVENT
END:VCALENDAR
