BEGIN:VCALENDAR
VERSION:2.0
PRODID:-//InvisionCommunity Events 4.7.14//EN
METHOD:PUBLISH
CALSCALE:GREGORIAN
REFRESH-INTERVAL:PT15M
X-PUBLISHED-TTL:PT15M
X-WR-CALNAME:The Elder Scrolls Online
NAME:The Elder Scrolls Online
BEGIN:VTIMEZONE
TZID:Europe/London
TZURL:http://tzurl.org/zoneinfo/Europe/London
X-LIC-LOCATION:Europe/London
BEGIN:DAYLIGHT
TZOFFSETFROM:+0000
TZOFFSETTO:+0100
TZNAME:BST
DTSTART:20210328T020000Z
RRULE:FREQ=YEARLY;BYMONTH=3;BYDAY=-1SU
END:DAYLIGHT
BEGIN:STANDARD
TZOFFSETFROM:+0100
TZOFFSETTO:+0000
TZNAME:GMT
DTSTART:20211031T020000Z
RRULE:FREQ=YEARLY;BYMONTH=10;BYDAY=-1SU
END:STANDARD
END:VTIMEZONE
BEGIN:VEVENT
SUMMARY:[TESO] ПВП рейд
DTSTAMP:20210226T141621Z
SEQUENCE:0
UID:8994-1-afb15bc42254ad5fb0481ce5e9c8144d@forum.bandits-clan.ru
ORGANIZER;CN="Moxnatochka":web@bandits-clan.ru
DESCRIPTION:\n	В имперску
	ю канализацию и 
	имперский город\, 
	поход на Молаг Бала 
	и фарм тель-варов. 
	За ковенант от 10
	 уровня. Без ОГ. Пр
	иходим с хорошим 
	настроением на канал FAP 
	в дискорде. Рейд продлится 3 ч
	аса! \n\n\n\n	При себе иметь:\n\n\n\n	-Табард
	 гильдии\n
DTSTART:20210227T120000Z
END:VEVENT
END:VCALENDAR
