BEGIN:VCALENDAR
VERSION:2.0
PRODID:-//InvisionCommunity Events 4.7.14//EN
METHOD:PUBLISH
CALSCALE:GREGORIAN
REFRESH-INTERVAL:PT15M
X-PUBLISHED-TTL:PT15M
X-WR-CALNAME:The Elder Scrolls Online
NAME:The Elder Scrolls Online
BEGIN:VTIMEZONE
TZID:Europe/London
TZURL:http://tzurl.org/zoneinfo/Europe/London
X-LIC-LOCATION:Europe/London
BEGIN:DAYLIGHT
TZOFFSETFROM:+0000
TZOFFSETTO:+0100
TZNAME:BST
DTSTART:20210328T020000Z
RRULE:FREQ=YEARLY;BYMONTH=3;BYDAY=-1SU
END:DAYLIGHT
BEGIN:STANDARD
TZOFFSETFROM:+0100
TZOFFSETTO:+0000
TZNAME:GMT
DTSTART:20211031T020000Z
RRULE:FREQ=YEARLY;BYMONTH=10;BYDAY=-1SU
END:STANDARD
END:VTIMEZONE
BEGIN:VEVENT
SUMMARY:[TESO] Боссы Вварденфелла и З
	аводного Города.
DTSTAMP:20210225T141226Z
SEQUENCE:0
UID:8993-1-afb15bc42254ad5fb0481ce5e9c8144d@forum.bandits-clan.ru
ORGANIZER;CN="F4N7":web@bandits-clan.ru
DESCRIPTION:\n	с 20-00 по МСК\n\n\n\n	 \n\n\
	n\n	Приглашаю
	 всех желаю
	щих любого
	 уровня п
	о случаю 
	праздни
	ка трибу
	нала пробежатьс
	я по боссам локаций Ввард
	енфелла и Заводного Города
	.\n\n\n\n	 \n\n\n\n	Закроем 
	достижения\, п
	офармим зацепк
	и\, сделаем ежедневные кве
	сты на боссов\, получим лут и опыт.
	\n\n\n\n	 \n\n\n\n	Требования:\
	n\n	- дополнения: Морро
	винд и Заводной Город\n\
	n	- гильдейская накидка\n\n	- прис
	утствие в ТС\n\n\n\n	 \n\n\n\n	Сбор в ТС в к
	омнате Мировые Боссы\n
DTSTART:20210225T170000Z
ATTENDEE;CN="F4N7";CUTYPE=INDIVIDUAL;PARTSTAT=ACCEPTED:web@b
	andits-clan.ru
ATTENDEE;CN="Deadmorose";CUTYPE=INDIVIDUAL;PARTSTAT=ACCEPTED
	:web@bandits-clan.ru
ATTENDEE;CN="bonart";CUTYPE=INDIVIDUAL;PARTSTAT=ACCEPTED:web
	@bandits-clan.ru
ATTENDEE;CN="ELRuso";CUTYPE=INDIVIDUAL;PARTSTAT=ACCEPTED:web
	@bandits-clan.ru
ATTENDEE;CN="Kapitul";CUTYPE=INDIVIDUAL;PARTSTAT=ACCEPTED:we
	b@bandits-clan.ru
END:VEVENT
END:VCALENDAR
