BEGIN:VCALENDAR
VERSION:2.0
PRODID:-//InvisionCommunity Events 4.7.14//EN
METHOD:PUBLISH
CALSCALE:GREGORIAN
REFRESH-INTERVAL:PT15M
X-PUBLISHED-TTL:PT15M
X-WR-CALNAME:The Elder Scrolls Online
NAME:The Elder Scrolls Online
BEGIN:VTIMEZONE
TZID:Europe/London
TZURL:http://tzurl.org/zoneinfo/Europe/London
X-LIC-LOCATION:Europe/London
BEGIN:DAYLIGHT
TZOFFSETFROM:+0000
TZOFFSETTO:+0100
TZNAME:BST
DTSTART:20210328T020000Z
RRULE:FREQ=YEARLY;BYMONTH=3;BYDAY=-1SU
END:DAYLIGHT
BEGIN:STANDARD
TZOFFSETFROM:+0100
TZOFFSETTO:+0000
TZNAME:GMT
DTSTART:20211031T020000Z
RRULE:FREQ=YEARLY;BYMONTH=10;BYDAY=-1SU
END:STANDARD
END:VTIMEZONE
BEGIN:VEVENT
SUMMARY:[TESO] Изоляционн
	ый санктуарий (нормал) Фармовое испытани
	е
DTSTAMP:20210225T111034Z
SEQUENCE:0
UID:8992-1-afb15bc42254ad5fb0481ce5e9c8144d@forum.bandits-clan.ru
ORGANIZER;CN="F4N7":web@bandits-clan.ru
DESCRIPTION:\n	В 19-00 по МСК\n\n\n\n	При
	глашаю всех жел
	ающих от 160 О
	Г по случаю пра
	здника трибунала пофа
	рмить \"Изоляционный санктуарий
	\".\n\n\n\n	Состав:\n\n	1 танка\, 2 хила\, 9 
	дд\n\n\n\n	Требования:\n\n	- Д
	ля танка и хилера - аттест
	ация нормал\n\n	- Для дд -
	 наличие дпс 15 000+\n\n
		- Дополнение Золотой Город\n\n
		- Установленные аддоны Code's Combat Alerts\, Rai
	d Notifier и Hodor Reflexes\n\n	- Распре
	деление ОГ согласно г
	айду\n\n	- Наличие оде
	той гидейской накидки
	\n\n\n\n	Длительность рейда 1
	 час. Сделаем 1 заход.
	\n\n\n\n	Сбор: голос тс 
	в комнате Фармовое 
	испытание\, в игре
	 гильдхолл\n\n\n\n	Для у
	частия нажимайте
	 слева на кнопку \
	"Пойду\"\, а в комментарии внизу пишите
	 свою роль и игровой ID\n
DTSTART:20210225T160000Z
ATTENDEE;CN="F4N7";CUTYPE=INDIVIDUAL;PARTSTAT=ACCEPTED:web@b
	andits-clan.ru
ATTENDEE;CN="Dmitriyvaulin";CUTYPE=INDIVIDUAL;PARTSTAT=ACCEP
	TED:web@bandits-clan.ru
ATTENDEE;CN="Deadmorose";CUTYPE=INDIVIDUAL;PARTSTAT=ACCEPTED
	:web@bandits-clan.ru
END:VEVENT
END:VCALENDAR
