BEGIN:VCALENDAR
VERSION:2.0
PRODID:-//InvisionCommunity Events 4.7.14//EN
METHOD:PUBLISH
CALSCALE:GREGORIAN
REFRESH-INTERVAL:PT15M
X-PUBLISHED-TTL:PT15M
X-WR-CALNAME:The Elder Scrolls Online
NAME:The Elder Scrolls Online
BEGIN:VTIMEZONE
TZID:Europe/London
TZURL:http://tzurl.org/zoneinfo/Europe/London
X-LIC-LOCATION:Europe/London
BEGIN:DAYLIGHT
TZOFFSETFROM:+0000
TZOFFSETTO:+0100
TZNAME:BST
DTSTART:20210328T020000Z
RRULE:FREQ=YEARLY;BYMONTH=3;BYDAY=-1SU
END:DAYLIGHT
BEGIN:STANDARD
TZOFFSETFROM:+0100
TZOFFSETTO:+0000
TZNAME:GMT
DTSTART:20211031T020000Z
RRULE:FREQ=YEARLY;BYMONTH=10;BYDAY=-1SU
END:STANDARD
END:VTIMEZONE
BEGIN:VEVENT
SUMMARY:[TESO] vHoF обучающий
DTSTAMP:20210217T142108Z
SEQUENCE:0
UID:8961-1-afb15bc42254ad5fb0481ce5e9c8144d@forum.bandits-clan.ru
ORGANIZER;CN="dreemspot":web@bandits-clan.ru
DESCRIPTION:\n	 \n\n\n\n	В 15.00 по Московс
	кому времени.\n\n\n\n	Приглаша
	ю 12 человек – 2 танка\
	, 2 хила\, 8 дд (
	Обязательна отм
	етка о прохожден
	ии нормальной версии и
	спытания (мод DBGN)\, у дд обязат
	елен ДПС от 26к+) в звании Rai
	der\, от 500 ОГ\, для прохождения ис
	пытания:\n\n\n\n	 \n\n\n\n	Залы фабрикации / Halls
	 of Fabrication [vHoF] Необходимо DLC - Морровинд
	.\n\n\n\n	 \n\n\n\n	При себе иметь: T
	eamSpeak (хотя бы возможность
	 слушать)\, Табард\, рем
	комплекты\, еду!\n\n\
	n\n	Для наибол
	ьшего удобс
	тва в освоении ко
	нтента\, советую заранее уста
	новить такие моды как Bandits UserInterface / Code
	's Combat Alerts / RaidNotifier. Дан
	ные моды по
	казывают ат
	аки боссов и что нуж
	но делать в случае
	 использования их б
	оссами.\n\n\n\n	В комментария
	х указывайте свою роль
	 и игровой id.\n\n\n\n	Н
	а событие приходит
	е заранее\, сборы нач
	инаются за 10-15 мин.
	 до назначенног
	о времени\, в против
	ном случае\, ваше ме
	сто уйдет другому 
	желающему.\n\n\n\n	Решени
	е о составе группы остается за рейд ли
	дером.\n
DTSTART:20210220T120000Z
ATTENDEE;CN="dreemspot";CUTYPE=INDIVIDUAL;PARTSTAT=ACCEPTED:
	web@bandits-clan.ru
ATTENDEE;CN="K0RVINUS";CUTYPE=INDIVIDUAL;PARTSTAT=ACCEPTED:w
	eb@bandits-clan.ru
ATTENDEE;CN="FearFur";CUTYPE=INDIVIDUAL;PARTSTAT=ACCEPTED:we
	b@bandits-clan.ru
ATTENDEE;CN="paradiys";CUTYPE=INDIVIDUAL;PARTSTAT=ACCEPTED:w
	eb@bandits-clan.ru
ATTENDEE;CN="armares";CUTYPE=INDIVIDUAL;PARTSTAT=ACCEPTED:we
	b@bandits-clan.ru
ATTENDEE;CN="sinister2000";CUTYPE=INDIVIDUAL;PARTSTAT=ACCEPT
	ED:web@bandits-clan.ru
ATTENDEE;CN="NekrosOldSchool";CUTYPE=INDIVIDUAL;PARTSTAT=ACC
	EPTED:web@bandits-clan.ru
ATTENDEE;CN="Hordent";CUTYPE=INDIVIDUAL;PARTSTAT=ACCEPTED:we
	b@bandits-clan.ru
ATTENDEE;CN="doomkiller87";CUTYPE=INDIVIDUAL;PARTSTAT=ACCEPT
	ED:web@bandits-clan.ru
ATTENDEE;CN="gregorydj";CUTYPE=INDIVIDUAL;PARTSTAT=ACCEPTED:
	web@bandits-clan.ru
ATTENDEE;CN="Anhert";CUTYPE=INDIVIDUAL;PARTSTAT=ACCEPTED:web
	@bandits-clan.ru
ATTENDEE;CN="Mitrain";CUTYPE=INDIVIDUAL;PARTSTAT=ACCEPTED:we
	b@bandits-clan.ru
ATTENDEE;CN="Neuro-Mancer";CUTYPE=INDIVIDUAL;PARTSTAT=ACCEPT
	ED:web@bandits-clan.ru
END:VEVENT
END:VCALENDAR
