BEGIN:VCALENDAR
VERSION:2.0
PRODID:-//InvisionCommunity Events 4.7.14//EN
METHOD:PUBLISH
CALSCALE:GREGORIAN
REFRESH-INTERVAL:PT15M
X-PUBLISHED-TTL:PT15M
X-WR-CALNAME:The Elder Scrolls Online
NAME:The Elder Scrolls Online
BEGIN:VTIMEZONE
TZID:Europe/London
TZURL:http://tzurl.org/zoneinfo/Europe/London
X-LIC-LOCATION:Europe/London
BEGIN:DAYLIGHT
TZOFFSETFROM:+0000
TZOFFSETTO:+0100
TZNAME:BST
DTSTART:20210328T020000Z
RRULE:FREQ=YEARLY;BYMONTH=3;BYDAY=-1SU
END:DAYLIGHT
BEGIN:STANDARD
TZOFFSETFROM:+0100
TZOFFSETTO:+0000
TZNAME:GMT
DTSTART:20211031T020000Z
RRULE:FREQ=YEARLY;BYMONTH=10;BYDAY=-1SU
END:STANDARD
END:VTIMEZONE
BEGIN:VEVENT
SUMMARY:[TESO] Учебный триал vet SS (Санспайр)
DTSTAMP:20210216T204447Z
SEQUENCE:0
UID:8960-1-afb15bc42254ad5fb0481ce5e9c8144d@forum.bandits-clan.ru
ORGANIZER;CN="Ghost_77":web@bandits-clan.ru
DESCRIPTION:\n	 \n\n\n\n	Обучающ
	ий ветеранский триал SS (Солне
	чный шпиль)\n\n\n\n	                 
	                               
	     Важная информ
	ация чуть ниже \n
	\n\n\n	(важная и
	нформация правее
	) Требуется глава Грейму
	р (важная информация левее)\n\n\n
	\n	                               
	                             Важная
	 информация чуть выше\n\n\n\n	 \n\n
	\n\n	Начало события 19-00 по МС
	К\n\n	Сбор начинается в 18-50.
	 Если вы записались\, 
	но не пришли до 19-00\,
	 ваше место может занять лю
	бой желающий из чата.\n\n\n\n	 \n\n\n\
	n	Требования:\n\n	- Звание от Raider
	/Warrior и выше\n\n	- Подтвержденны
	й ДПС 30k+ для дд\n\n	- Танк и хил
	 аттестация ранга normal\n\n	- Табард ги
	льдии\n\n	- TeamSpeak\n\n	- От
	метка о прохожде
	нии нормал верс
	ии триала с ги
	льдией\n\n	(Есл
	и вы не соотве
	тствуете опре
	деленному тре
	бованию\, но уве
	рены\, что хоро
	шо справитесь с
	о своей задачей\, прось
	ба связаться со мной в игре 
	или на форуме)\n\n\n\n	 \n\n\n\n	Нам потр
	ебуются:\n\n	- 2 танк\n\n	- 2 хила\n\n	- 8 дд \n
	\n\n\n	 \n\n\n\n	Запись в ко
	мментариях обяза
	тельна (с указанием роли и
	 ID\, если он отличается от фо
	румного)\n\n\n\n	PS\n\n	
	Решение о ко
	нечном сост
	аве группы остаетс
	я за рейд-лидером 
	(тоже кстати важная
	 информация)\n\n\n\n	П
	родолжительность соб
	ытия - не более 2 час
	ов (рейд закончит
	ся в 21-00 мск нез
	ависимо от тек
	ущего прогресса (во
	зможны исключения)(и 
	еще одна скобочка))\n\n
		Сбор\, перекуры\, пер
	екусы и т.д. также
	 входят в указан
	ные 2 часа\, та
	к что прошу в
	сех приходить вовремя и 
	подготовленными на все случаи жизни)\n\n\n\
	n	 \n
DTSTART:20210222T160000Z
ATTENDEE;CN="Ghost_77";CUTYPE=INDIVIDUAL;PARTSTAT=ACCEPTED:w
	eb@bandits-clan.ru
ATTENDEE;CN="mortmordre";CUTYPE=INDIVIDUAL;PARTSTAT=ACCEPTED
	:web@bandits-clan.ru
ATTENDEE;CN="Mirnebez";CUTYPE=INDIVIDUAL;PARTSTAT=ACCEPTED:w
	eb@bandits-clan.ru
ATTENDEE;CN="GUYKA";CUTYPE=INDIVIDUAL;PARTSTAT=ACCEPTED:web@
	bandits-clan.ru
ATTENDEE;CN="VoronNika";CUTYPE=INDIVIDUAL;PARTSTAT=ACCEPTED:
	web@bandits-clan.ru
ATTENDEE;CN="Dushman";CUTYPE=INDIVIDUAL;PARTSTAT=ACCEPTED:we
	b@bandits-clan.ru
ATTENDEE;CN="StillHeart";CUTYPE=INDIVIDUAL;PARTSTAT=ACCEPTED
	:web@bandits-clan.ru
ATTENDEE;CN="StephenDedalus";CUTYPE=INDIVIDUAL;PARTSTAT=ACCE
	PTED:web@bandits-clan.ru
ATTENDEE;CN="эрнесто";CUTYPE=INDIVIDUAL;PARTSTAT=ACCE
	PTED:web@bandits-clan.ru
ATTENDEE;CN="Lichtbringer";CUTYPE=INDIVIDUAL;PARTSTAT=ACCEPT
	ED:web@bandits-clan.ru
ATTENDEE;CN="FakeGod";CUTYPE=INDIVIDUAL;PARTSTAT=ACCEPTED:we
	b@bandits-clan.ru
ATTENDEE;CN="mamsik";CUTYPE=INDIVIDUAL;PARTSTAT=ACCEPTED:web
	@bandits-clan.ru
ATTENDEE;CN="Neuro-Mancer";CUTYPE=INDIVIDUAL;PARTSTAT=ACCEPT
	ED:web@bandits-clan.ru
ATTENDEE;CN="LarriusVarro";CUTYPE=INDIVIDUAL;PARTSTAT=ACCEPT
	ED:web@bandits-clan.ru
ATTENDEE;CN="gregorydj";CUTYPE=INDIVIDUAL;PARTSTAT=ACCEPTED:
	web@bandits-clan.ru
ATTENDEE;CN="NegaTTiVV";CUTYPE=INDIVIDUAL;PARTSTAT=ACCEPTED:
	web@bandits-clan.ru
ATTENDEE;CN="Thilse";CUTYPE=INDIVIDUAL;PARTSTAT=ACCEPTED:web
	@bandits-clan.ru
END:VEVENT
END:VCALENDAR
