BEGIN:VCALENDAR
VERSION:2.0
PRODID:-//InvisionCommunity Events 4.7.14//EN
METHOD:PUBLISH
CALSCALE:GREGORIAN
REFRESH-INTERVAL:PT15M
X-PUBLISHED-TTL:PT15M
X-WR-CALNAME:The Elder Scrolls Online
NAME:The Elder Scrolls Online
BEGIN:VTIMEZONE
TZID:Europe/London
TZURL:http://tzurl.org/zoneinfo/Europe/London
X-LIC-LOCATION:Europe/London
BEGIN:DAYLIGHT
TZOFFSETFROM:+0000
TZOFFSETTO:+0100
TZNAME:BST
DTSTART:20210328T020000Z
RRULE:FREQ=YEARLY;BYMONTH=3;BYDAY=-1SU
END:DAYLIGHT
BEGIN:STANDARD
TZOFFSETFROM:+0100
TZOFFSETTO:+0000
TZNAME:GMT
DTSTART:20211031T020000Z
RRULE:FREQ=YEARLY;BYMONTH=10;BYDAY=-1SU
END:STANDARD
END:VTIMEZONE
BEGIN:VEVENT
SUMMARY:[TESO] Пасть Лоркхаджа (нормал) Ф
	армовое испытание
DTSTAMP:20210216T192854Z
SEQUENCE:0
UID:8959-1-afb15bc42254ad5fb0481ce5e9c8144d@forum.bandits-clan.ru
ORGANIZER;CN="Ил Арион":web@bandits-clan.ru
DESCRIPTION:\n	В 20-00 по МСК\n\n\n\n	 \n\n\
	n\n	Приглашаю всех желающ
	их от 160 ОГ пофармить Пасть Лор
	кхаджа.\n\n\n\n	Состав:\n\n	2 танка\, 2 хила\,
	 8 дд\n\n\n\n	 \n\n\n\n	Требования:\
	n\n	- Для танка и хилера - а
	ттестация нормал\n\n	- Для дд -
	 наличие дпс 15 000+\n\n	- Глава
	 Эльсвейр\n\n	- Установленные аддоны Code's Com
	bat Alerts\, Raid Notifier и Hodor Reflexes\n\n	- Р
	аспределение ОГ со
	гласно гайду\n\n	- Наличие од
	етой гидейской накидки\n\n\n\n	 
	\n\n\n\n	Длительность рейда 2 - 
	2\,5 часа. Сделаем не менее 2 заходо
	в.\n\n\n\n	 \n\n\n\n	Сбор: голо
	с тс в комнате Фармовое испы
	тание\, в игре гильдхолл\n\
	n\n\n	 \n\n\n\n	Для участия н
	ажимайте слева н
	а кнопку \"Пойду\"\, а
	 в комментарии внизу пишите свою роль и 
	игровой ID\n
DTSTART:20210223T170000Z
ATTENDEE;CN="gregorydj";CUTYPE=INDIVIDUAL;PARTSTAT=ACCEPTED:
	web@bandits-clan.ru
ATTENDEE;CN="Ил Арион";CUTYPE=INDIVIDUAL;PARTSTAT=ACC
	EPTED:web@bandits-clan.ru
ATTENDEE;CN="Mirnebez";CUTYPE=INDIVIDUAL;PARTSTAT=ACCEPTED:w
	eb@bandits-clan.ru
ATTENDEE;CN="@Yoldar";CUTYPE=INDIVIDUAL;PARTSTAT=ACCEPTED:we
	b@bandits-clan.ru
ATTENDEE;CN="timon1345";CUTYPE=INDIVIDUAL;PARTSTAT=ACCEPTED:
	web@bandits-clan.ru
ATTENDEE;CN="эрнесто";CUTYPE=INDIVIDUAL;PARTSTAT=ACCE
	PTED:web@bandits-clan.ru
ATTENDEE;CN="Deadmorose";CUTYPE=INDIVIDUAL;PARTSTAT=ACCEPTED
	:web@bandits-clan.ru
ATTENDEE;CN="StillHeart";CUTYPE=INDIVIDUAL;PARTSTAT=ACCEPTED
	:web@bandits-clan.ru
ATTENDEE;CN="Monterro";CUTYPE=INDIVIDUAL;PARTSTAT=ACCEPTED:w
	eb@bandits-clan.ru
ATTENDEE;CN="StephenDedalus";CUTYPE=INDIVIDUAL;PARTSTAT=ACCE
	PTED:web@bandits-clan.ru
ATTENDEE;CN="RastyCohle";CUTYPE=INDIVIDUAL;PARTSTAT=ACCEPTED
	:web@bandits-clan.ru
ATTENDEE;CN="LUTOVOLK48";CUTYPE=INDIVIDUAL;PARTSTAT=ACCEPTED
	:web@bandits-clan.ru
ATTENDEE;CN="VoronNika";CUTYPE=INDIVIDUAL;PARTSTAT=ACCEPTED:
	web@bandits-clan.ru
ATTENDEE;CN="NegaTTiVV";CUTYPE=INDIVIDUAL;PARTSTAT=ACCEPTED:
	web@bandits-clan.ru
END:VEVENT
END:VCALENDAR
