BEGIN:VCALENDAR
VERSION:2.0
PRODID:-//InvisionCommunity Events 4.7.14//EN
METHOD:PUBLISH
CALSCALE:GREGORIAN
REFRESH-INTERVAL:PT15M
X-PUBLISHED-TTL:PT15M
X-WR-CALNAME:The Elder Scrolls Online
NAME:The Elder Scrolls Online
BEGIN:VTIMEZONE
TZID:Europe/London
TZURL:http://tzurl.org/zoneinfo/Europe/London
X-LIC-LOCATION:Europe/London
BEGIN:DAYLIGHT
TZOFFSETFROM:+0000
TZOFFSETTO:+0100
TZNAME:BST
DTSTART:20210328T020000Z
RRULE:FREQ=YEARLY;BYMONTH=3;BYDAY=-1SU
END:DAYLIGHT
BEGIN:STANDARD
TZOFFSETFROM:+0100
TZOFFSETTO:+0000
TZNAME:GMT
DTSTART:20211031T020000Z
RRULE:FREQ=YEARLY;BYMONTH=10;BYDAY=-1SU
END:STANDARD
END:VTIMEZONE
BEGIN:VEVENT
SUMMARY:(TESO) Цитадель Хе
	л Ра учебное испытание\, ветеран хард-мод
DTSTAMP:20210214T161517Z
SEQUENCE:0
UID:8954-1-afb15bc42254ad5fb0481ce5e9c8144d@forum.bandits-clan.ru
ORGANIZER;CN="Bandit":web@bandits-clan.ru
DESCRIPTION:\n	С 16 00 по мск\n\n\n
		Приглашаю желаю
	щих в звании от 
	Бандит+ (при 
	недоборе бер
	у от Рейдер+) п
	ройти ветер
	анское испы
	тание Краглорна - 
	Цитадель Хел Ра с вклю
	чением усложненного режим
	а.\n\n\n	Нужно: 2 танка\, 2 хи
	лера\, остальные -
	 дд (минимум 2 д
	д с Сокрушение
	м стихий из вет
	ки посоха Разр
	ушения\, прерыв
	ающий скилл\,
	  1 стамдд с агро 
	из Неустрашимых 
	или со свободными 
	скиллпойнтами)\n\n\n	Для 
	танков сборка на жизнь\, жела
	телен гвард.\n\n\n\n	 \n\n\n\
	n	Тимспик\, гильдейск
	ие накидки\, сбор в гильд
	холле.\n\n\n	Пишите свою роль в комментари
	ях.\n
DTSTART:20210218T130000Z
ATTENDEE;CN="Bandit";CUTYPE=INDIVIDUAL;PARTSTAT=ACCEPTED:web
	@bandits-clan.ru
ATTENDEE;CN="EHoTMorty";CUTYPE=INDIVIDUAL;PARTSTAT=ACCEPTED:
	web@bandits-clan.ru
ATTENDEE;CN="AlexR";CUTYPE=INDIVIDUAL;PARTSTAT=ACCEPTED:web@
	bandits-clan.ru
ATTENDEE;CN="NekrosOldSchool";CUTYPE=INDIVIDUAL;PARTSTAT=ACC
	EPTED:web@bandits-clan.ru
ATTENDEE;CN="Iwanich";CUTYPE=INDIVIDUAL;PARTSTAT=ACCEPTED:we
	b@bandits-clan.ru
ATTENDEE;CN="doomkiller87";CUTYPE=INDIVIDUAL;PARTSTAT=ACCEPT
	ED:web@bandits-clan.ru
ATTENDEE;CN="paradiys";CUTYPE=INDIVIDUAL;PARTSTAT=ACCEPTED:w
	eb@bandits-clan.ru
ATTENDEE;CN="LUTOVOLK48";CUTYPE=INDIVIDUAL;PARTSTAT=ACCEPTED
	:web@bandits-clan.ru
ATTENDEE;CN="RastyCohle";CUTYPE=INDIVIDUAL;PARTSTAT=ACCEPTED
	:web@bandits-clan.ru
ATTENDEE;CN="leartos";CUTYPE=INDIVIDUAL;PARTSTAT=ACCEPTED:we
	b@bandits-clan.ru
ATTENDEE;CN="эрнесто";CUTYPE=INDIVIDUAL;PARTSTAT=ACCE
	PTED:web@bandits-clan.ru
END:VEVENT
END:VCALENDAR
