BEGIN:VCALENDAR
VERSION:2.0
PRODID:-//InvisionCommunity Events 4.7.14//EN
METHOD:PUBLISH
CALSCALE:GREGORIAN
REFRESH-INTERVAL:PT15M
X-PUBLISHED-TTL:PT15M
X-WR-CALNAME:The Elder Scrolls Online
NAME:The Elder Scrolls Online
BEGIN:VTIMEZONE
TZID:Europe/London
TZURL:http://tzurl.org/zoneinfo/Europe/London
X-LIC-LOCATION:Europe/London
BEGIN:DAYLIGHT
TZOFFSETFROM:+0000
TZOFFSETTO:+0100
TZNAME:BST
DTSTART:20210328T020000Z
RRULE:FREQ=YEARLY;BYMONTH=3;BYDAY=-1SU
END:DAYLIGHT
BEGIN:STANDARD
TZOFFSETFROM:+0100
TZOFFSETTO:+0000
TZNAME:GMT
DTSTART:20211031T020000Z
RRULE:FREQ=YEARLY;BYMONTH=10;BYDAY=-1SU
END:STANDARD
END:VTIMEZONE
BEGIN:VEVENT
SUMMARY:[TESO]Бойцовский клуб
DTSTAMP:20210214T002408Z
SEQUENCE:0
UID:8948-1-afb15bc42254ad5fb0481ce5e9c8144d@forum.bandits-clan.ru
ORGANIZER;CN="Гуго Де Рок":web@bandits-clan.ru
DESCRIPTION:\n	 \n\n\n\n	\n		\n			Начало в 16 0
	0 по МСК \, длительность события 1 час\n			\n	
				 \n			\n		\n	\n\n\n\n	\n		\n			Хоче
	шь научиться убив
	ать не только мобов 
	в подземельях?\n\n	
			Собрать билд 
	для ПВП\, узна
	ть комбинаци
	и скилов для
	 своего класса и
	ли комбинации\, ко
	торые может использо
	вать противник?\n\n			И
	ли у тебя уже все есть\, но ну
	жен опыт и оценка со стороны?\n		\n\n		
	\n			 \n		\n\n		\n			Приходи к нам в Бойцовски
	й Клуб!\n		\n\n		\n			 \n		\n\n		\n		
		Обучающее ме
	роприятие\, бе
	з ограничений п
	о уровням\, любо
	й желающий может
	 прийти и получи
	ть совет\, как е
	му лучше себя 
	вести\, пого
	ворить с дру
	гими дуэлянт
	ами и размять св
	ои руки в дуэлях  Даже
	 если нужно все сделать с нуля - мы помо
	жем.\n		\n\n		\n			 \n		\n\n		\n			Ведущий: Гуго Де Ро
	к(@GugoDeRock)\n		\n\n		\n			 \n		\n\n		\n			Кст
	ати\, с помощь
	ю Бойцовского Клуба ты 
	сможешь повысить звание в гильдии \n		\n	\
	n\n\n\n	 \n
DTSTART:20210214T130000Z
END:VEVENT
END:VCALENDAR
