BEGIN:VCALENDAR
VERSION:2.0
PRODID:-//InvisionCommunity Events 4.7.14//EN
METHOD:PUBLISH
CALSCALE:GREGORIAN
REFRESH-INTERVAL:PT15M
X-PUBLISHED-TTL:PT15M
X-WR-CALNAME:The Elder Scrolls Online
NAME:The Elder Scrolls Online
BEGIN:VTIMEZONE
TZID:Europe/London
TZURL:http://tzurl.org/zoneinfo/Europe/London
X-LIC-LOCATION:Europe/London
BEGIN:DAYLIGHT
TZOFFSETFROM:+0000
TZOFFSETTO:+0100
TZNAME:BST
DTSTART:20210328T020000Z
RRULE:FREQ=YEARLY;BYMONTH=3;BYDAY=-1SU
END:DAYLIGHT
BEGIN:STANDARD
TZOFFSETFROM:+0100
TZOFFSETTO:+0000
TZNAME:GMT
DTSTART:20211031T020000Z
RRULE:FREQ=YEARLY;BYMONTH=10;BYDAY=-1SU
END:STANDARD
END:VTIMEZONE
BEGIN:VEVENT
SUMMARY:[TESO] Отмененное событие
DTSTAMP:20210208T154517Z
SEQUENCE:0
UID:8924-1-afb15bc42254ad5fb0481ce5e9c8144d@forum.bandits-clan.ru
ORGANIZER;CN="Sinbann":web@bandits-clan.ru
DESCRIPTION:\n	Рейд перенесён на понедельни
	к\n\n\n\n	 \n\n\n\n	В 19:00 по МСК п
	риглашаю всех ж
	елающих от 160 ОГ прой
	ти нормал версию исп
	ытания \"Солнечный 
	шпиль\"\n\n\n\n	Для успешн
	ого прохождения нам потре
	буются: 1-2 танка\, 1 хил\
	, 8-9 ДД. Для участия
	 необходимо наж
	ать кнопку \"Пойду\
	" справа по курсу и напи
	сать свой игровой ID и
	 роль ниже.\n\n\n\n	Но
	вичкам в покорении триал
	ов буду рада\, всё расскажу и 
	покажу.\n\n\n\n	 \n\n\n\n	Внимание\,
	 требуется глава Эльсвейр.\
	n\n\n\n	 \n\n\n\n	Дресскод
	 парадный (табард) со в
	сем необходимым (ремкомплект
	ы\, камни душ).\n\n\n\n	 \n\n\n\n	Обя
	зательно присутствие
	 в Teamspeak канал Уче
	бное испытание.\nС
	бор в гильдхолле (Большое
	 топальское убежище\, тп на @Kib
	ert) за 15 минут до начала триала
	.\n\n\n\n	 \n\n\n\n	Желательно наличие аддонов:\n
	Code Combat Alert\nRaid Notifier\nBandit User Interface\n\n\n\n	 \n\n\n\n
		Окончатель
	ное решение о соста
	ве рейда остаётся 
	на усмотрение рей
	д-лидера\n\n\n\n	По окончании 
	триала всем будут поставлены отметки\n
DTSTART:20210214T160000Z
ATTENDEE;CN="AtomicExplosion";CUTYPE=INDIVIDUAL;PARTSTAT=ACC
	EPTED:web@bandits-clan.ru
ATTENDEE;CN="StillHeart";CUTYPE=INDIVIDUAL;PARTSTAT=ACCEPTED
	:web@bandits-clan.ru
ATTENDEE;CN="kenobi344";CUTYPE=INDIVIDUAL;PARTSTAT=ACCEPTED:
	web@bandits-clan.ru
ATTENDEE;CN="Iwanich";CUTYPE=INDIVIDUAL;PARTSTAT=ACCEPTED:we
	b@bandits-clan.ru
ATTENDEE;CN="Sinbann";CUTYPE=INDIVIDUAL;PARTSTAT=ACCEPTED:we
	b@bandits-clan.ru
ATTENDEE;CN="gregorydj";CUTYPE=INDIVIDUAL;PARTSTAT=ACCEPTED:
	web@bandits-clan.ru
ATTENDEE;CN="@Yoldar";CUTYPE=INDIVIDUAL;PARTSTAT=ACCEPTED:we
	b@bandits-clan.ru
ATTENDEE;CN="Yurets_91";CUTYPE=INDIVIDUAL;PARTSTAT=ACCEPTED:
	web@bandits-clan.ru
END:VEVENT
END:VCALENDAR
