BEGIN:VCALENDAR
VERSION:2.0
PRODID:-//InvisionCommunity Events 4.7.14//EN
METHOD:PUBLISH
CALSCALE:GREGORIAN
REFRESH-INTERVAL:PT15M
X-PUBLISHED-TTL:PT15M
X-WR-CALNAME:The Elder Scrolls Online
NAME:The Elder Scrolls Online
BEGIN:VTIMEZONE
TZID:Europe/London
TZURL:http://tzurl.org/zoneinfo/Europe/London
X-LIC-LOCATION:Europe/London
BEGIN:DAYLIGHT
TZOFFSETFROM:+0000
TZOFFSETTO:+0100
TZNAME:BST
DTSTART:20210328T020000Z
RRULE:FREQ=YEARLY;BYMONTH=3;BYDAY=-1SU
END:DAYLIGHT
BEGIN:STANDARD
TZOFFSETFROM:+0100
TZOFFSETTO:+0000
TZNAME:GMT
DTSTART:20211031T020000Z
RRULE:FREQ=YEARLY;BYMONTH=10;BYDAY=-1SU
END:STANDARD
END:VTIMEZONE
BEGIN:VEVENT
SUMMARY:[TESO] обучающий v
	AS+0 (ветеранский Изоляционный Санктуарий
	+0)
DTSTAMP:20210208T123042Z
SEQUENCE:0
UID:8922-1-afb15bc42254ad5fb0481ce5e9c8144d@forum.bandits-clan.ru
ORGANIZER;CN="Neuro-Mancer":web@bandits-clan.ru
DESCRIPTION:\n	Учебный рейд
	 в ветеранский Из
	оляционный Санктуарий+0\
	n\n\n\n	Наличие дополнения Заводной
	 Город\n\n\n\n	начало 19 МСК\n\n\n\n	1 танк 2
	 хила 9 дд 160+\n\n\n\n	Минимал
	ьная аттестация Рейде
	р \n\n\n\n	Сбор в Гильдхоле\n\n
		В коментах пишите свой АйДи (ID) и роль\n
DTSTART:20210211T160000Z
DTEND:20210211T180000Z
ATTENDEE;CN="Neuro-Mancer";CUTYPE=INDIVIDUAL;PARTSTAT=ACCEPT
	ED:web@bandits-clan.ru
ATTENDEE;CN="AQuaBonAQua";CUTYPE=INDIVIDUAL;PARTSTAT=ACCEPTE
	D:web@bandits-clan.ru
END:VEVENT
END:VCALENDAR
