BEGIN:VCALENDAR
VERSION:2.0
PRODID:-//InvisionCommunity Events 4.7.14//EN
METHOD:PUBLISH
CALSCALE:GREGORIAN
REFRESH-INTERVAL:PT15M
X-PUBLISHED-TTL:PT15M
X-WR-CALNAME:The Elder Scrolls Online
NAME:The Elder Scrolls Online
BEGIN:VTIMEZONE
TZID:Europe/London
TZURL:http://tzurl.org/zoneinfo/Europe/London
X-LIC-LOCATION:Europe/London
BEGIN:DAYLIGHT
TZOFFSETFROM:+0000
TZOFFSETTO:+0100
TZNAME:BST
DTSTART:20210328T020000Z
RRULE:FREQ=YEARLY;BYMONTH=3;BYDAY=-1SU
END:DAYLIGHT
BEGIN:STANDARD
TZOFFSETFROM:+0100
TZOFFSETTO:+0000
TZNAME:GMT
DTSTART:20211031T020000Z
RRULE:FREQ=YEARLY;BYMONTH=10;BYDAY=-1SU
END:STANDARD
END:VTIMEZONE
BEGIN:VEVENT
SUMMARY:[TESO] Учебное ветеранс
	кое испытание Санктум Офидия (vSO)
DTSTAMP:20210208T073126Z
SEQUENCE:0
UID:8921-1-afb15bc42254ad5fb0481ce5e9c8144d@forum.bandits-clan.ru
ORGANIZER;CN="Sinbann":web@bandits-clan.ru
DESCRIPTION:\n	 В 18:00 по мск пр
	иглашаю всех 
	желающих от 160ог п
	ройти ветеранскую
	 версию триала Сан
	ктум Офидия. \n\n\n\
	n	Для успешного з
	акрытия нам потребуютс
	я 2 танка (аттестация от нормал)
	\, 1 хил\, 8 дд (аттестация от 
	30к).\n\n\n\n	Сбор по 
	традиции в гильдхолл
	е Большое топальское у
	бежище (тп на @Kibert). Вс
	ем быть при параде
	 (табард)\, взять с собой
	 ремкомплекты\, еду и ка
	мушки душ. \n\n\n\n	Гру
	ппа собирается за 
	15 минут до начала
	 триала (давим на тапок\
	, иначе ваше место за
	ймет кто-то другой
	) \n\n\n\n	Окончате
	льное решение о сос
	таве рейда остаётс
	я за рейд лидером.
	 \n\n\n\n	После прохожден
	ия всем будут постав
	лены отметки. \n\n\n\n	Если б
	одро полетим\, то потр
	аим хард-мод. \n\n\
	n\n	Если рейд л
	идер будет весел
	о шепилявить после стоматолога\, ра
	зрешаю похихикать. \n
DTSTART:20210210T150000Z
ATTENDEE;CN="Iwanich";CUTYPE=INDIVIDUAL;PARTSTAT=ACCEPTED:we
	b@bandits-clan.ru
ATTENDEE;CN="Sinbann";CUTYPE=INDIVIDUAL;PARTSTAT=ACCEPTED:we
	b@bandits-clan.ru
ATTENDEE;CN="StephenDedalus";CUTYPE=INDIVIDUAL;PARTSTAT=ACCE
	PTED:web@bandits-clan.ru
ATTENDEE;CN="Bappek";CUTYPE=INDIVIDUAL;PARTSTAT=ACCEPTED:web
	@bandits-clan.ru
ATTENDEE;CN="FairStrike";CUTYPE=INDIVIDUAL;PARTSTAT=ACCEPTED
	:web@bandits-clan.ru
ATTENDEE;CN="EHoTMorty";CUTYPE=INDIVIDUAL;PARTSTAT=ACCEPTED:
	web@bandits-clan.ru
ATTENDEE;CN="LUTOVOLK48";CUTYPE=INDIVIDUAL;PARTSTAT=ACCEPTED
	:web@bandits-clan.ru
ATTENDEE;CN="Ghost_77";CUTYPE=INDIVIDUAL;PARTSTAT=ACCEPTED:w
	eb@bandits-clan.ru
ATTENDEE;CN="Kapitul";CUTYPE=INDIVIDUAL;PARTSTAT=ACCEPTED:we
	b@bandits-clan.ru
ATTENDEE;CN="Mcnaiv";CUTYPE=INDIVIDUAL;PARTSTAT=ACCEPTED:web
	@bandits-clan.ru
END:VEVENT
END:VCALENDAR
