BEGIN:VCALENDAR
VERSION:2.0
PRODID:-//InvisionCommunity Events 4.7.14//EN
METHOD:PUBLISH
CALSCALE:GREGORIAN
REFRESH-INTERVAL:PT15M
X-PUBLISHED-TTL:PT15M
X-WR-CALNAME:The Elder Scrolls Online
NAME:The Elder Scrolls Online
BEGIN:VTIMEZONE
TZID:Europe/London
TZURL:http://tzurl.org/zoneinfo/Europe/London
X-LIC-LOCATION:Europe/London
BEGIN:DAYLIGHT
TZOFFSETFROM:+0000
TZOFFSETTO:+0100
TZNAME:BST
DTSTART:20210328T020000Z
RRULE:FREQ=YEARLY;BYMONTH=3;BYDAY=-1SU
END:DAYLIGHT
BEGIN:STANDARD
TZOFFSETFROM:+0100
TZOFFSETTO:+0000
TZNAME:GMT
DTSTART:20211031T020000Z
RRULE:FREQ=YEARLY;BYMONTH=10;BYDAY=-1SU
END:STANDARD
END:VTIMEZONE
BEGIN:VEVENT
SUMMARY:(TESO) Викторина по лору Свитк
	ов \"Золото Налькарии\"
DTSTAMP:20210207T164511Z
SEQUENCE:0
UID:8914-1-afb15bc42254ad5fb0481ce5e9c8144d@forum.bandits-clan.ru
ORGANIZER;CN="Bandit":web@bandits-clan.ru
DESCRIPTION:\n	С 15 00 по мск\n\
	n	Сколько небес
	ных осколков нужн
	о собрать\, чтобы 
	получить очко навыков
	?\n\n	Кто из даэдра был 
	предтечей Вивека?\n\n\n	З
	наете ответы на вопросы?\
	n\n\n	Проверьте себя!\n\n\n	Боле
	е 50 вопросов ценой от 100 золо
	тых до 10000!!!\n\n\n	Выиграйте 
	все золото у Налькари
	и!\n\n\n	Тимспик\, канал Котелок Нальк
	арии. 0+ уровень.\n
DTSTART:20210214T120000Z
END:VEVENT
END:VCALENDAR
