BEGIN:VCALENDAR
VERSION:2.0
PRODID:-//InvisionCommunity Events 4.7.14//EN
METHOD:PUBLISH
CALSCALE:GREGORIAN
REFRESH-INTERVAL:PT15M
X-PUBLISHED-TTL:PT15M
X-WR-CALNAME:The Elder Scrolls Online
NAME:The Elder Scrolls Online
BEGIN:VTIMEZONE
TZID:Europe/London
TZURL:http://tzurl.org/zoneinfo/Europe/London
X-LIC-LOCATION:Europe/London
BEGIN:DAYLIGHT
TZOFFSETFROM:+0000
TZOFFSETTO:+0100
TZNAME:BST
DTSTART:20210328T020000Z
RRULE:FREQ=YEARLY;BYMONTH=3;BYDAY=-1SU
END:DAYLIGHT
BEGIN:STANDARD
TZOFFSETFROM:+0100
TZOFFSETTO:+0000
TZNAME:GMT
DTSTART:20211031T020000Z
RRULE:FREQ=YEARLY;BYMONTH=10;BYDAY=-1SU
END:STANDARD
END:VTIMEZONE
BEGIN:VEVENT
SUMMARY:[TESO] Боссы и бури Скайрима и Преде
	ла
DTSTAMP:20210205T203041Z
SEQUENCE:0
UID:8910-1-afb15bc42254ad5fb0481ce5e9c8144d@forum.bandits-clan.ru
ORGANIZER;CN="Ил Арион":web@bandits-clan.ru
DESCRIPTION:\n	с 20-00 по МСК\n\n\n\n	 \n\n\
	n\n	Приглашаю 
	всех желаю
	щих любого у
	ровня пробеж
	аться по босса
	м и бурям локаций Западны
	й Скайрим\, Черный Предел и П
	редел\n\n\n\n	 \n\n\n\n	Зак
	роем достижен
	ия\, пофармим за
	цепки\, сделаем еж
	едневные квесты на боссов и бу
	ри\, получим лут и опыт.\n\n\n\
	n	 \n\n\n\n	Требования
	: глава Греймур
	\, дополнение Маркарт\, 
	гильдейская накидка\, присутс
	твие в ТС.\n\n\n\n	 \n\n\n\n	Сбор в ТС
	 в комнате Мировые Боссы\
	n\n\n\n	 \n\n\n\n	Приоритет для записавших
	ся игроков 
DTSTART:20210210T170000Z
ATTENDEE;CN="Ил Арион";CUTYPE=INDIVIDUAL;PARTSTAT=ACC
	EPTED:web@bandits-clan.ru
ATTENDEE;CN="Copoc";CUTYPE=INDIVIDUAL;PARTSTAT=ACCEPTED:web@
	bandits-clan.ru
ATTENDEE;CN="ivmos";CUTYPE=INDIVIDUAL;PARTSTAT=ACCEPTED:web@
	bandits-clan.ru
ATTENDEE;CN="@Yoldar";CUTYPE=INDIVIDUAL;PARTSTAT=ACCEPTED:we
	b@bandits-clan.ru
ATTENDEE;CN="GreshN1K";CUTYPE=INDIVIDUAL;PARTSTAT=ACCEPTED:w
	eb@bandits-clan.ru
ATTENDEE;CN="Mcnaiv";CUTYPE=INDIVIDUAL;PARTSTAT=ACCEPTED:web
	@bandits-clan.ru
END:VEVENT
END:VCALENDAR
