BEGIN:VCALENDAR
VERSION:2.0
PRODID:-//InvisionCommunity Events 4.7.14//EN
METHOD:PUBLISH
CALSCALE:GREGORIAN
REFRESH-INTERVAL:PT15M
X-PUBLISHED-TTL:PT15M
X-WR-CALNAME:The Elder Scrolls Online
NAME:The Elder Scrolls Online
BEGIN:VTIMEZONE
TZID:Europe/London
TZURL:http://tzurl.org/zoneinfo/Europe/London
X-LIC-LOCATION:Europe/London
BEGIN:DAYLIGHT
TZOFFSETFROM:+0000
TZOFFSETTO:+0100
TZNAME:BST
DTSTART:20210328T020000Z
RRULE:FREQ=YEARLY;BYMONTH=3;BYDAY=-1SU
END:DAYLIGHT
BEGIN:STANDARD
TZOFFSETFROM:+0100
TZOFFSETTO:+0000
TZNAME:GMT
DTSTART:20211031T020000Z
RRULE:FREQ=YEARLY;BYMONTH=10;BYDAY=-1SU
END:STANDARD
END:VTIMEZONE
BEGIN:VEVENT
SUMMARY:[TESO] Учебный триал nMOL (Пасть Лорх
	аджа)
DTSTAMP:20210205T162317Z
SEQUENCE:0
UID:8909-1-afb15bc42254ad5fb0481ce5e9c8144d@forum.bandits-clan.ru
ORGANIZER;CN="Ghost_77":web@bandits-clan.ru
DESCRIPTION:\n	Обучающий нормал тр
	иал MoL (Пасть Лорхаджа)\n\n\
	n\n	Требуется DLC \"Гильдия воров\" или 
	подписка ESO+.\n\n\n\n	 \n\n\n\n	Начало
	 события 19-00 по МСК\n\n	Сбо
	р начинается в 18-50. Если в
	ы записались\, но не 
	пришли до 19-00\, ваше мест
	о может занять любой желающий из
	 чата.\n\n\n\n	 \n\n\n\n	Требования:\n\n	- Таб
	ард гильдии\n\n	- TeamSpeak\n\n	 \n\n\n\n	Нам
	 потребуются:\n\n	- 1 танк\n\n	- 2 хила\n\n	- 9
	 дд \n\n\n\n	 \n\n\n\n	Зап
	ись в комментари
	ях обязательна (с у
	казанием роли и ID\, если он 
	отличается от форумного)
	\n\n\n\n	PS\n\n	Решение 
	о конечном соста
	ве группы остается
	 за рейд-лидером \n\n\
	n\n	Продолжительность с
	обытия - не более 2 ч
	асов (рейд законч
	ится в 21-00 мск н
	езависимо от
	 текущего прогресса
	 (возможны исключения
	)(и еще одна скобочка))\
	n\n	Сбор\, перекуры\, пе
	рекусы и т.д. такж
	е входят в указа
	нные 2 часа\, т
	ак что прошу
	 всех приходить вовремя и подгот
	овленными на все случаи жизни)\n
DTSTART:20210212T160000Z
ATTENDEE;CN="Ghost_77";CUTYPE=INDIVIDUAL;PARTSTAT=ACCEPTED:w
	eb@bandits-clan.ru
ATTENDEE;CN="kenobi344";CUTYPE=INDIVIDUAL;PARTSTAT=ACCEPTED:
	web@bandits-clan.ru
ATTENDEE;CN="zumma";CUTYPE=INDIVIDUAL;PARTSTAT=ACCEPTED:web@
	bandits-clan.ru
ATTENDEE;CN="MishaAverin";CUTYPE=INDIVIDUAL;PARTSTAT=ACCEPTE
	D:web@bandits-clan.ru
ATTENDEE;CN="Aslan";CUTYPE=INDIVIDUAL;PARTSTAT=ACCEPTED:web@
	bandits-clan.ru
ATTENDEE;CN="ShalnoyKot";CUTYPE=INDIVIDUAL;PARTSTAT=ACCEPTED
	:web@bandits-clan.ru
ATTENDEE;CN="Ekaterina";CUTYPE=INDIVIDUAL;PARTSTAT=ACCEPTED:
	web@bandits-clan.ru
ATTENDEE;CN="GrimFonKott";CUTYPE=INDIVIDUAL;PARTSTAT=ACCEPTE
	D:web@bandits-clan.ru
ATTENDEE;CN="Mcnaiv";CUTYPE=INDIVIDUAL;PARTSTAT=ACCEPTED:web
	@bandits-clan.ru
ATTENDEE;CN="Deadmorose";CUTYPE=INDIVIDUAL;PARTSTAT=ACCEPTED
	:web@bandits-clan.ru
ATTENDEE;CN="RastyCohle";CUTYPE=INDIVIDUAL;PARTSTAT=ACCEPTED
	:web@bandits-clan.ru
ATTENDEE;CN="Iwanich";CUTYPE=INDIVIDUAL;PARTSTAT=ACCEPTED:we
	b@bandits-clan.ru
END:VEVENT
END:VCALENDAR
