BEGIN:VCALENDAR
VERSION:2.0
PRODID:-//InvisionCommunity Events 4.7.14//EN
METHOD:PUBLISH
CALSCALE:GREGORIAN
REFRESH-INTERVAL:PT15M
X-PUBLISHED-TTL:PT15M
X-WR-CALNAME:The Elder Scrolls Online
NAME:The Elder Scrolls Online
BEGIN:VTIMEZONE
TZID:Europe/London
TZURL:http://tzurl.org/zoneinfo/Europe/London
X-LIC-LOCATION:Europe/London
BEGIN:DAYLIGHT
TZOFFSETFROM:+0000
TZOFFSETTO:+0100
TZNAME:BST
DTSTART:20210328T020000Z
RRULE:FREQ=YEARLY;BYMONTH=3;BYDAY=-1SU
END:DAYLIGHT
BEGIN:STANDARD
TZOFFSETFROM:+0100
TZOFFSETTO:+0000
TZNAME:GMT
DTSTART:20211031T020000Z
RRULE:FREQ=YEARLY;BYMONTH=10;BYDAY=-1SU
END:STANDARD
END:VTIMEZONE
BEGIN:VEVENT
SUMMARY:[TESO] Учебный триал vetHRC
DTSTAMP:20210204T212904Z
SEQUENCE:0
UID:8908-1-afb15bc42254ad5fb0481ce5e9c8144d@forum.bandits-clan.ru
ORGANIZER;CN="Ghost_77":web@bandits-clan.ru
DESCRIPTION:\n	Обучающий ветеранс
	кий триал HRC (Цитадель Хель Ра)\n\n
	\n\n	 \n\n\n\n	Начало события 19-00 по
	 МСК\n\n	Сбор начинается в 1
	8-50. Если вы записались\,
	 но не пришли до 19-00\
	, ваше место может занять лю
	бой желающий из чата.\n\n\n\n	 \n\n\n\
	n	Требования:\n\n	- Звание от Raider
	/Warrior и выше\n\n	- Подтвержденны
	й ДПС 26k+ для дд\n\n	- Танк и хил
	 аттестация ранга normal\n\n	- Табард ги
	льдии\n\n	- TeamSpeak\n\n	- От
	метка о прохожде
	нии нормал верс
	ии триала с ги
	льдией\n\n	(Есл
	и вы не соотве
	тствуете опре
	деленному тре
	бованию\, но уве
	рены\, что хоро
	шо справитесь с
	о своей задачей\, прось
	ба связаться со мной в игре 
	или на форуме)\n\n\n\n	 \n\n\n\n	Нам потр
	ебуются:\n\n	- 1 танк\n\n	- 2 хила\n\n	- 9 дд \n
	\n\n\n	 \n\n\n\n	Запись в ко
	мментариях обяза
	тельна (с указанием роли и
	 ID\, если он отличается от фо
	румного)\n\n\n\n	PS\n\n	
	Решение о конечно
	м составе группы
	 остается за рейд-лид
	ером \n\n\n\n	Продол
	жительность события 
	- не более 2 часов (р
	ейд закончится в
	 21-00 мск независ
	имо от текущего пр
	огресса (возможны иск
	лючения)(и еще одна ско
	бочка))\n\n	Сбор\, перек
	уры\, перекусы и т.д
	. также входят в 
	указанные 2 ча
	са\, так что п
	рошу всех приходить вовр
	емя и подготовленными на все случаи жиз
	ни)\n
DTSTART:20210208T160000Z
ATTENDEE;CN="Ghost_77";CUTYPE=INDIVIDUAL;PARTSTAT=ACCEPTED:w
	eb@bandits-clan.ru
ATTENDEE;CN="mortmordre";CUTYPE=INDIVIDUAL;PARTSTAT=ACCEPTED
	:web@bandits-clan.ru
ATTENDEE;CN="StephenDedalus";CUTYPE=INDIVIDUAL;PARTSTAT=ACCE
	PTED:web@bandits-clan.ru
ATTENDEE;CN="LUTOVOLK48";CUTYPE=INDIVIDUAL;PARTSTAT=ACCEPTED
	:web@bandits-clan.ru
ATTENDEE;CN="FairStrike";CUTYPE=INDIVIDUAL;PARTSTAT=ACCEPTED
	:web@bandits-clan.ru
ATTENDEE;CN="timon1345";CUTYPE=INDIVIDUAL;PARTSTAT=ACCEPTED:
	web@bandits-clan.ru
ATTENDEE;CN="Den13ka";CUTYPE=INDIVIDUAL;PARTSTAT=ACCEPTED:we
	b@bandits-clan.ru
ATTENDEE;CN="RaidbroWait";CUTYPE=INDIVIDUAL;PARTSTAT=ACCEPTE
	D:web@bandits-clan.ru
ATTENDEE;CN="blacktriangle";CUTYPE=INDIVIDUAL;PARTSTAT=ACCEP
	TED:web@bandits-clan.ru
ATTENDEE;CN="octopus_d";CUTYPE=INDIVIDUAL;PARTSTAT=ACCEPTED:
	web@bandits-clan.ru
ATTENDEE;CN="Mcnaiv";CUTYPE=INDIVIDUAL;PARTSTAT=ACCEPTED:web
	@bandits-clan.ru
ATTENDEE;CN="Epmak";CUTYPE=INDIVIDUAL;PARTSTAT=ACCEPTED:web@
	bandits-clan.ru
ATTENDEE;CN="Unterstutzung";CUTYPE=INDIVIDUAL;PARTSTAT=ACCEP
	TED:web@bandits-clan.ru
ATTENDEE;CN="I am ready to die";CUTYPE=INDIVIDUAL;PARTSTAT=A
	CCEPTED:web@bandits-clan.ru
END:VEVENT
END:VCALENDAR
