BEGIN:VCALENDAR
VERSION:2.0
PRODID:-//InvisionCommunity Events 4.7.14//EN
METHOD:PUBLISH
CALSCALE:GREGORIAN
REFRESH-INTERVAL:PT15M
X-PUBLISHED-TTL:PT15M
X-WR-CALNAME:The Elder Scrolls Online
NAME:The Elder Scrolls Online
BEGIN:VTIMEZONE
TZID:Europe/London
TZURL:http://tzurl.org/zoneinfo/Europe/London
X-LIC-LOCATION:Europe/London
BEGIN:DAYLIGHT
TZOFFSETFROM:+0000
TZOFFSETTO:+0100
TZNAME:BST
DTSTART:20210328T020000Z
RRULE:FREQ=YEARLY;BYMONTH=3;BYDAY=-1SU
END:DAYLIGHT
BEGIN:STANDARD
TZOFFSETFROM:+0100
TZOFFSETTO:+0000
TZNAME:GMT
DTSTART:20211031T020000Z
RRULE:FREQ=YEARLY;BYMONTH=10;BYDAY=-1SU
END:STANDARD
END:VTIMEZONE
BEGIN:VEVENT
SUMMARY:[TESO] ПВП-Рейд \"Bad Boys Bandits\"
DTSTAMP:20210201T142020Z
SEQUENCE:0
UID:8895-1-afb15bc42254ad5fb0481ce5e9c8144d@forum.bandits-clan.ru
ORGANIZER;CN="Nivhooreel":web@bandits-clan.ru
DESCRIPTION:\n	\n		\n			\n		\n\n		\n			При
	глашаем люб
	ителей ПвП при
	соединиться к б
	оям в Сиродииле. 
	Наша основная цель 
	- найти бои погуще д
	а пожирнее\, и во
	рваться в них\;
	 а также - за
	ставить стат
	ики спрыгива
	ть со второго
	 этажа крепост
	ей и ретироват
	ься\, а башенны
	х воинов и ка
	мнелюбов\, 
	кичащихся св
	оей неубиваем
	остью - улепётывать
	 до самого Ввандерфела\, при
	 виде наших табардов.\n\n\n			Сбор с 19 00 
	в ТС канале Bad Boys Bandits\n\
	n			Длительност
	ь не регламентир
	ована\, обычно иг
	раем на протяже
	нии 4 часов\, в те
	чение которых мо
	жно как присоединитьс
	я к рейду\, так и завершить похо
	д.\n\n			Кампания \"Серая Рать\" (Gray Host)\n\
	n			Рейд лидер - @SociophobicCat\n\n			Требован
	ия:\n		\n\n		\n				Готовност
	ь следовать за лидер
	ом\, не входить в бо
	й без рейда\, и выходить из 
	боя\, менять цели вместе с 
	рейдом.\n			\n			\n				Сог
	ласованные с рейд-лидером кл
	асс\, морфы скиллов\, сеты.\n
				\n			\n				Нахождение в голосовом канале Bad
	 Boys Bandits в Teamspeak.\n			\n			\n				Ми
	нимальный набор установле
	нных обязательных дополнений:\n
	Yet Another Compass\, любой адд-он н
	а неотключаемую в бою мини-карту - Badits User 
	Interface\, Votan's Mini Map\, Любой ад
	д-он\, показываю
	щий корону и направление 
	на неё\, есть в том же бандитском или 
	Exterminatus Group Leader\, большинство нео
	бходимого имеется в Taos 
	Group Tools. Все перечи
	сленные доступны к установке и
	 обновлениям через Minion.\n			\n		
		\n				Табард гильдии\, разуме
	ется.\n			\n		\n			Нужные 
	рейду роли можно 
	посмотреть здес
	ь\, в той же теме 
	ссылка на дискорд\
	, где можно ознакомиться с 
	билдами и дополнениями.\n
			\n\n		\n			Также\, если 
	вы хотите попро
	бовать и решит
	ь\, подойдёт ли
	 вам это\, т
	о имеется в
	озможность
	 попробоват
	ь пойти ваш
	им предпо
	чтимым кл
	ассом\, но ну
	жно соответствовать н
	екоторым дополнительным требования
	м:\n		\n\n		\n				Более 160 ЧП.\n			\n			
	\n				Прокачанные ско
	рость лошади более 50\, вынослив
	ость лошади - более 20.\n			\n	
			\n				Минимум 30к ХП в чемпионской ка
	мпании.\n			\n			\n				AoE урон\, наличи
	е контроля.\n			\n		\n	
			Подробнее ра
	спросить може
	те любого\, кого увид
	ите в тимспике с большой светло-синей
	 буквой 'B'.\n		\n	\n
DTSTART:20210206T160000Z
END:VEVENT
END:VCALENDAR
