BEGIN:VCALENDAR
VERSION:2.0
PRODID:-//InvisionCommunity Events 4.7.14//EN
METHOD:PUBLISH
CALSCALE:GREGORIAN
REFRESH-INTERVAL:PT15M
X-PUBLISHED-TTL:PT15M
X-WR-CALNAME:The Elder Scrolls Online
NAME:The Elder Scrolls Online
BEGIN:VTIMEZONE
TZID:Europe/London
TZURL:http://tzurl.org/zoneinfo/Europe/London
X-LIC-LOCATION:Europe/London
BEGIN:DAYLIGHT
TZOFFSETFROM:+0000
TZOFFSETTO:+0100
TZNAME:BST
DTSTART:20210328T020000Z
RRULE:FREQ=YEARLY;BYMONTH=3;BYDAY=-1SU
END:DAYLIGHT
BEGIN:STANDARD
TZOFFSETFROM:+0100
TZOFFSETTO:+0000
TZNAME:GMT
DTSTART:20211031T020000Z
RRULE:FREQ=YEARLY;BYMONTH=10;BYDAY=-1SU
END:STANDARD
END:VTIMEZONE
BEGIN:VEVENT
SUMMARY:[TESO] ПВП-Рейд \"Bad Boys Bandits\"
DTSTAMP:20210201T141516Z
SEQUENCE:0
UID:8890-1-afb15bc42254ad5fb0481ce5e9c8144d@forum.bandits-clan.ru
ORGANIZER;CN="Nivhooreel":web@bandits-clan.ru
DESCRIPTION:\n	\n		\n			\n				\n					\n				\n\n				\n					П
	риглашаем л
	юбителей ПвП 
	присоединиться
	 к боям в Сиродиил
	е. Наша основная це
	ль - найти бои погущ
	е да пожирнее\, и
	 ворваться в ни
	х\; а также - з
	аставить ста
	тики спрыгив
	ать со второг
	о этажа крепос
	тей и ретирова
	ться\, а башенн
	ых воинов и к
	амнелюбов\,
	 кичащихся св
	оей неубиваем
	остью - улепётывать
	 до самого Ввандерфела\, при 
	виде наших табардов.\n\n\n					Сбор с 19 00
	 в ТС канале Bad Boys Bandits\n\n	
					Длительност
	ь не регламентир
	ована\, обычно иг
	раем на протяже
	нии 4 часов\, в те
	чение которых мо
	жно как присоединиться
	 к рейду\, так и завершить поход.
	\n\n					Кампания \"Серая Рать\" (Gray Host)\n\n
						Рейд лидер - @SociophobicCat\n\n					Требования:\n
					\n\n				\n						Готовность
	 следовать за лидеро
	м\, не входить в бой 
	без рейда\, и выходить из боя
	\, менять цели вместе с рейдом.\n
						\n					\n						Согласованн
	ые с рейд-лидером класс\, морфы ск
	иллов\, сеты.\n					\n					\n						Нахо
	ждение в голосовом канале Bad Boys Bandits в Teamsp
	eak.\n					\n					\n						Мини
	мальный набор установленных
	 обязательных дополнений:\nYet 
	Another Compass\, любой адд-он на не
	отключаемую в бою мини-карту - Badits User Interfa
	ce\, Votan's Mini Map\, Любой адд
	-он\, показывающи
	й корону и направление на н
	её\, есть в том же бандитском или Exte
	rminatus Group Leader\, большинство необход
	имого имеется в Taos Group
	 Tools. Все перечисленн
	ые доступны к установке и обновления
	м через Minion.\n					\n					\n						Табард г
	ильдии\, разумеется.\n					\
	n				\n					Нужные рейду
	 роли можно посмо
	треть здесь\, в т
	ой же теме ссы
	лка на дискорд\, где 
	можно ознакомиться с билдами и
	 дополнениями.\n				\n\n				\n	
					Также\, если вы х
	отите попробова
	ть и решить\, п
	одойдёт ли в
	ам это\, то
	 имеется во
	зможность 
	попробоват
	ь пойти ваш
	им предпо
	чтимым кл
	ассом\, но ну
	жно соответствовать не
	которым дополнительным требованиям:
	\n				\n\n				\n						Более 160 ЧП.\n					\n					\n
							Прокачанные ско
	рость лошади более 50\, выносливост
	ь лошади - более 20.\n					\n					\n	
						Минимум 30к ХП в чемпионской кампан
	ии.\n					\n					\n						AoE урон\, наличие контроля
	.\n					\n				\n					Подробнее
	 распросить м
	ожете любого\, ког
	о увидите в тимспике с большой с
	ветло-синей буквой 'B'.\n				\n			\n		\n	\n
DTSTART;VALUE=DATE:20210201
END:VEVENT
END:VCALENDAR
