BEGIN:VCALENDAR
VERSION:2.0
PRODID:-//InvisionCommunity Events 4.7.14//EN
METHOD:PUBLISH
CALSCALE:GREGORIAN
REFRESH-INTERVAL:PT15M
X-PUBLISHED-TTL:PT15M
X-WR-CALNAME:The Elder Scrolls Online
NAME:The Elder Scrolls Online
BEGIN:VTIMEZONE
TZID:Europe/London
TZURL:http://tzurl.org/zoneinfo/Europe/London
X-LIC-LOCATION:Europe/London
BEGIN:DAYLIGHT
TZOFFSETFROM:+0000
TZOFFSETTO:+0100
TZNAME:BST
DTSTART:20210328T020000Z
RRULE:FREQ=YEARLY;BYMONTH=3;BYDAY=-1SU
END:DAYLIGHT
BEGIN:STANDARD
TZOFFSETFROM:+0100
TZOFFSETTO:+0000
TZNAME:GMT
DTSTART:20211031T020000Z
RRULE:FREQ=YEARLY;BYMONTH=10;BYDAY=-1SU
END:STANDARD
END:VTIMEZONE
BEGIN:VEVENT
SUMMARY:(TESO) Учебное испытание вет
	 цитадель Хел Ра
DTSTAMP:20210131T184003Z
SEQUENCE:0
UID:8886-1-afb15bc42254ad5fb0481ce5e9c8144d@forum.bandits-clan.ru
ORGANIZER;CN="Bandit":web@bandits-clan.ru
DESCRIPTION:\n	С 16 00 по Мск\n\n\n\n	 \n\n\
	n\n	Приглашаю
	 всех желающих
	 пройти ветеранск
	ое испытание Краглор
	на - Цитадель Хел Ра.\n\n\n	Д
	ополнений не требуется.\n\n\n	Н
	ужно - 12 человек\, 1-2 танка\,
	 2 хилера\, остальны
	е - дд (минимум 2 
	дд с Сокрушени
	ем стихий - прерыва
	ющее умение из ветк
	и Посоха Разрушения
	).\n\n\n	Звание от Рейдер+ (
	подтвержденный дпс не
	 менее 26к)\n\n\n	Тимспик\, г
	ильдейские накидки\, сбор
	 в гх.\n\n\n	Хорошее настр
	оение \n\n\n	В дни Пел
	инала водить ку
	да-то в другие мес
	та боюсь :) на до
	лгие раны не отва
	живаюсь\, так чт
	о простите. пок
	а никакой Эгиды
	 или МоЛ\, пока бе
	зумие Середины 
	года не кончится - понимаю\, всем нужно 
	звание императора)))\n
DTSTART:20210204T130000Z
ATTENDEE;CN="Bandit";CUTYPE=INDIVIDUAL;PARTSTAT=ACCEPTED:web
	@bandits-clan.ru
ATTENDEE;CN="StephenDedalus";CUTYPE=INDIVIDUAL;PARTSTAT=ACCE
	PTED:web@bandits-clan.ru
ATTENDEE;CN="F4N7";CUTYPE=INDIVIDUAL;PARTSTAT=ACCEPTED:web@b
	andits-clan.ru
ATTENDEE;CN="LUTOVOLK48";CUTYPE=INDIVIDUAL;PARTSTAT=ACCEPTED
	:web@bandits-clan.ru
END:VEVENT
END:VCALENDAR
