BEGIN:VCALENDAR
VERSION:2.0
PRODID:-//InvisionCommunity Events 4.7.14//EN
METHOD:PUBLISH
CALSCALE:GREGORIAN
REFRESH-INTERVAL:PT15M
X-PUBLISHED-TTL:PT15M
X-WR-CALNAME:The Elder Scrolls Online
NAME:The Elder Scrolls Online
BEGIN:VTIMEZONE
TZID:Europe/London
TZURL:http://tzurl.org/zoneinfo/Europe/London
X-LIC-LOCATION:Europe/London
BEGIN:DAYLIGHT
TZOFFSETFROM:+0000
TZOFFSETTO:+0100
TZNAME:BST
DTSTART:20210328T020000Z
RRULE:FREQ=YEARLY;BYMONTH=3;BYDAY=-1SU
END:DAYLIGHT
BEGIN:STANDARD
TZOFFSETFROM:+0100
TZOFFSETTO:+0000
TZNAME:GMT
DTSTART:20211031T020000Z
RRULE:FREQ=YEARLY;BYMONTH=10;BYDAY=-1SU
END:STANDARD
END:VTIMEZONE
BEGIN:VEVENT
SUMMARY:[TESO] Учебное испытание Архив(норм
	ал)
DTSTAMP:20210131T181444Z
SEQUENCE:0
UID:8885-1-afb15bc42254ad5fb0481ce5e9c8144d@forum.bandits-clan.ru
ORGANIZER;CN="Skybae":web@bandits-clan.ru
DESCRIPTION:\n	\n		В 21.00 по МСК\n	\n\n\n\n	\n		\n			 \n		\n\n
			\n			Приглашаю всех желающи
	х от 160 ОГ пройти испыта
	ние \"Архив\" (nAA). Осо
	бенно если это ваш первый триал\, 
	записывайтесь!\n		\n\n		\n			 \n		\n\n		\n		
		Нужно: 12 человек\, 1 танк\, 1 хил\, о
	стальные - любые дд.\n		\n\n		\n			 \n		\n\
	n		\n			Сбор в ТС\, кана
	л - учебный триал.
	 Место встречи и
	зменить нельзя (гиль
	дхолл)\, дресскод - пара
	дный(табарды)\, за 15 минут до начала со
	бытия.\n		\n\n		\n			 \n		\n\n		\n		
		Для участия нажим
	айте справа на кно
	пку \"Пойду\"\, а в коммен
	тарии внизу пишите свою роль и игровой ID
	.\n		\n\n		\n			 \n		\n\n		\n			P.S аддоны ко
	торые нужны для триалов:\n		\n\n		\n			 \n		\n\n		\n	
			Code Combat Alert\n\n			Raid Notifier\n\n			Bandit User Interface\n		\n\
	n		\n			 \n		\n\n		\n			если вы н
	е знаете что та
	кое аддоны или 
	не успели их пос
	тавить\, то для
	 нормал верси
	и это не крити
	чно\, но обя
	зательно пос
	тавьте их если соберетесь идт
	и на ветеранскую версию триала\n		\n	\n
DTSTART:20210206T174500Z
DTEND:20210206T175500Z
END:VEVENT
END:VCALENDAR
