BEGIN:VCALENDAR
VERSION:2.0
PRODID:-//InvisionCommunity Events 4.7.14//EN
METHOD:PUBLISH
CALSCALE:GREGORIAN
REFRESH-INTERVAL:PT15M
X-PUBLISHED-TTL:PT15M
X-WR-CALNAME:The Elder Scrolls Online
NAME:The Elder Scrolls Online
BEGIN:VTIMEZONE
TZID:Europe/London
TZURL:http://tzurl.org/zoneinfo/Europe/London
X-LIC-LOCATION:Europe/London
BEGIN:DAYLIGHT
TZOFFSETFROM:+0000
TZOFFSETTO:+0100
TZNAME:BST
DTSTART:20210328T020000Z
RRULE:FREQ=YEARLY;BYMONTH=3;BYDAY=-1SU
END:DAYLIGHT
BEGIN:STANDARD
TZOFFSETFROM:+0100
TZOFFSETTO:+0000
TZNAME:GMT
DTSTART:20211031T020000Z
RRULE:FREQ=YEARLY;BYMONTH=10;BYDAY=-1SU
END:STANDARD
END:VTIMEZONE
BEGIN:VEVENT
SUMMARY:(TESO) Отборочный рейд 
	сибирского статика (vet Клаудрест)
DTSTAMP:20210131T120147Z
SEQUENCE:0
UID:8879-1-afb15bc42254ad5fb0481ce5e9c8144d@forum.bandits-clan.ru
ORGANIZER;CN="Bandit":web@bandits-clan.ru
DESCRIPTION:\n	С 16 30 по мскСтатику Stalhri
	m Warriors требуются
	 дд!Играешь 
	по сибирско
	му прайм-тайм
	у и хочешь покорить сл
	ожный контент?Проверь с
	ебя!Мы ищем дд от 35+к dp
	s - тех\, кто способе
	н учиться и играть 
	в группе\, вместе 
	с нами. Наши рейды 
	- постоянные\, с
	татику несколь
	ко лет.  Ждем 
	тех\, кто план
	ирует играть д
	лительное время
	 (минимум нескольк
	о месяцев) .С дпс 
	и гиром поможе
	м\, главное - 
	твое желан
	ие!А сегодн
	я приглаша
	ем тебя сх
	одить в вет
	еранское ис
	пытание Клауд
	рест (требует
	ся дополнение
	 Саммерсет). Эт
	от триал - х
	орошая возм
	ожность показ
	ать на что ты спо
	собен и познакомит
	ься с нами!Даже есл
	и ты там не был - мы
	 все покажем\, рас
	скажем и научи
	м.Сегодня - места для
	 6 дд максимум. Подт
	вержденная аттестация от 35к d
	ps.Тимспик\, канал Северная сторона.\n
DTSTART:20210205T133000Z
END:VEVENT
END:VCALENDAR
