BEGIN:VCALENDAR
VERSION:2.0
PRODID:-//InvisionCommunity Events 4.7.14//EN
METHOD:PUBLISH
CALSCALE:GREGORIAN
REFRESH-INTERVAL:PT15M
X-PUBLISHED-TTL:PT15M
X-WR-CALNAME:The Elder Scrolls Online
NAME:The Elder Scrolls Online
BEGIN:VTIMEZONE
TZID:Europe/London
TZURL:http://tzurl.org/zoneinfo/Europe/London
X-LIC-LOCATION:Europe/London
BEGIN:DAYLIGHT
TZOFFSETFROM:+0000
TZOFFSETTO:+0100
TZNAME:BST
DTSTART:20210328T020000Z
RRULE:FREQ=YEARLY;BYMONTH=3;BYDAY=-1SU
END:DAYLIGHT
BEGIN:STANDARD
TZOFFSETFROM:+0100
TZOFFSETTO:+0000
TZNAME:GMT
DTSTART:20211031T020000Z
RRULE:FREQ=YEARLY;BYMONTH=10;BYDAY=-1SU
END:STANDARD
END:VTIMEZONE
BEGIN:VEVENT
SUMMARY:[TESO] Фармовое испытание nSS
	 (нормал Солнечный шпиль)
DTSTAMP:20210131T092654Z
SEQUENCE:0
UID:8876-1-afb15bc42254ad5fb0481ce5e9c8144d@forum.bandits-clan.ru
ORGANIZER;CN="VladRevenant":web@bandits-clan.ru
DESCRIPTION:\n	Приглашаю желаю
	щих от 160 ОГ в 18:30
	 по МСК пофармить исп
	ытание nSS (нормал Солнечный
	 шпиль)\n\n\n\n	Будут нужн
	ы: 1 танк\, 1 хил\, 9 
	дд (Для подтве
	рждения нажим
	аем кнопку \"По
	йду\"\, ниже в коммент
	ариях указываем сво
	й игровой ID и роль)\n\n\n\n
		Необходимо дополнение \"Э
	льсвейр\"\n\n\n\n	Сбор в гильдхолле з
	а 10-15 минут до начала (18:15-1
	8:20)\, заходим в Т
	С\, канал Фарм
	овое испытание 
	(Нахождение в 
	ТС обязательно!
	 Можно без голоса
	\, но с возможность
	ю слушать)\nНезабыва
	ем про: Табарды\, Камни
	 душ\, Рем.комплекты\, Б
	анки\n\n\n\n	Отметки ст
	авиться НЕ БУДУТ!\
	nСделаем 2-3 зах
	ода (если собер
	ется хорошая гру
	ппа\, сможем сделат
	ь побольше заходов)
	\, пофармим сеты:\nЛожный
	 бог\;\nЙолнакрин\;\nЛокк
	естиз\;\nНавинтас.\n\
	nНапоминаю о то
	м\, что это ФАР
	МОВОЕ ИСПЫТАНИ
	Е\, вы должны им
	еть представление о данном 
	триале\, знать его механики и т.д. и т.п.\n
DTSTART:20210211T153000Z
ATTENDEE;CN="VladRevenant";CUTYPE=INDIVIDUAL;PARTSTAT=ACCEPT
	ED:web@bandits-clan.ru
ATTENDEE;CN="Yoka";CUTYPE=INDIVIDUAL;PARTSTAT=ACCEPTED:web@b
	andits-clan.ru
ATTENDEE;CN="Orcoholist";CUTYPE=INDIVIDUAL;PARTSTAT=ACCEPTED
	:web@bandits-clan.ru
ATTENDEE;CN="Deadmorose";CUTYPE=INDIVIDUAL;PARTSTAT=ACCEPTED
	:web@bandits-clan.ru
ATTENDEE;CN="Iwanich";CUTYPE=INDIVIDUAL;PARTSTAT=ACCEPTED:we
	b@bandits-clan.ru
ATTENDEE;CN="RastyCohle";CUTYPE=INDIVIDUAL;PARTSTAT=ACCEPTED
	:web@bandits-clan.ru
ATTENDEE;CN="StephenDedalus";CUTYPE=INDIVIDUAL;PARTSTAT=ACCE
	PTED:web@bandits-clan.ru
ATTENDEE;CN="Copoc";CUTYPE=INDIVIDUAL;PARTSTAT=ACCEPTED:web@
	bandits-clan.ru
ATTENDEE;CN="paradiys";CUTYPE=INDIVIDUAL;PARTSTAT=ACCEPTED:w
	eb@bandits-clan.ru
ATTENDEE;CN="Arradj";CUTYPE=INDIVIDUAL;PARTSTAT=ACCEPTED:web
	@bandits-clan.ru
ATTENDEE;CN="leartos";CUTYPE=INDIVIDUAL;PARTSTAT=ACCEPTED:we
	b@bandits-clan.ru
END:VEVENT
END:VCALENDAR
