BEGIN:VCALENDAR
VERSION:2.0
PRODID:-//InvisionCommunity Events 4.7.14//EN
METHOD:PUBLISH
CALSCALE:GREGORIAN
REFRESH-INTERVAL:PT15M
X-PUBLISHED-TTL:PT15M
X-WR-CALNAME:The Elder Scrolls Online
NAME:The Elder Scrolls Online
BEGIN:VTIMEZONE
TZID:Europe/London
TZURL:http://tzurl.org/zoneinfo/Europe/London
X-LIC-LOCATION:Europe/London
BEGIN:DAYLIGHT
TZOFFSETFROM:+0000
TZOFFSETTO:+0100
TZNAME:BST
DTSTART:20210328T020000Z
RRULE:FREQ=YEARLY;BYMONTH=3;BYDAY=-1SU
END:DAYLIGHT
BEGIN:STANDARD
TZOFFSETFROM:+0100
TZOFFSETTO:+0000
TZNAME:GMT
DTSTART:20211031T020000Z
RRULE:FREQ=YEARLY;BYMONTH=10;BYDAY=-1SU
END:STANDARD
END:VTIMEZONE
BEGIN:VEVENT
SUMMARY:[TESO] Клаудрест +1\,+2\,+3 (норм
	ал) Фармовое испытание
DTSTAMP:20210129T154727Z
SEQUENCE:0
UID:8873-1-afb15bc42254ad5fb0481ce5e9c8144d@forum.bandits-clan.ru
ORGANIZER;CN="Ил Арион":web@bandits-clan.ru
DESCRIPTION:\n	В 20-00 по МСК\n\n\n\n	 \n\n\
	n\n	Приглашаю всех желающих 
	от 160 ОГ пофармить \"Клаудрест\".\n\
	n\n\n	Состав:\n\n	2 танка\, 2 хила\, 8 дд\n\n\
	n\n	 \n\n\n\n	Требования:\n\n	- 
	Для танка и хилера - аттеста
	ция нормал\n\n	- Для дд - наличие дп
	с 15 000+\n\n	- Глава Эльсвейр\n\n	- Уста
	новленные аддоны Code's Combat Alerts\, Raid Notifier и Ho
	dor Reflexes\n\n	- Распределени
	е ОГ согласно гайду\n\n	- На
	личие одетой гидейской накидк
	и\n\n\n\n	 \n\n\n\n	Длительность рей
	да 2 - 2\,5 часа. Сделаем не менее 3 з
	аходов.\n\n\n\n	 \n\n\n\n	Сбор
	: голос тс в комнате Фармов
	ое испытание\, в игре гильд
	холл\n\n\n\n	 \n\n\n\n	Для уча
	стия нажимайте с
	лева на кнопку \"
	Пойду\"\, а в комментарии внизу пишите с
	вою роль и игровой ID\n
DTSTART:20210212T170000Z
ATTENDEE;CN="Ил Арион";CUTYPE=INDIVIDUAL;PARTSTAT=ACC
	EPTED:web@bandits-clan.ru
ATTENDEE;CN="gregorydj";CUTYPE=INDIVIDUAL;PARTSTAT=ACCEPTED:
	web@bandits-clan.ru
ATTENDEE;CN="StephenDedalus";CUTYPE=INDIVIDUAL;PARTSTAT=ACCE
	PTED:web@bandits-clan.ru
ATTENDEE;CN="pinki1989";CUTYPE=INDIVIDUAL;PARTSTAT=ACCEPTED:
	web@bandits-clan.ru
ATTENDEE;CN="HappyDragon";CUTYPE=INDIVIDUAL;PARTSTAT=ACCEPTE
	D:web@bandits-clan.ru
ATTENDEE;CN="Deadmorose";CUTYPE=INDIVIDUAL;PARTSTAT=ACCEPTED
	:web@bandits-clan.ru
ATTENDEE;CN="Iwanich";CUTYPE=INDIVIDUAL;PARTSTAT=ACCEPTED:we
	b@bandits-clan.ru
ATTENDEE;CN="Porschen";CUTYPE=INDIVIDUAL;PARTSTAT=ACCEPTED:w
	eb@bandits-clan.ru
END:VEVENT
END:VCALENDAR
