BEGIN:VCALENDAR
VERSION:2.0
PRODID:-//InvisionCommunity Events 4.7.14//EN
METHOD:PUBLISH
CALSCALE:GREGORIAN
REFRESH-INTERVAL:PT15M
X-PUBLISHED-TTL:PT15M
X-WR-CALNAME:The Elder Scrolls Online
NAME:The Elder Scrolls Online
BEGIN:VTIMEZONE
TZID:Europe/London
TZURL:http://tzurl.org/zoneinfo/Europe/London
X-LIC-LOCATION:Europe/London
BEGIN:DAYLIGHT
TZOFFSETFROM:+0000
TZOFFSETTO:+0100
TZNAME:BST
DTSTART:20210328T020000Z
RRULE:FREQ=YEARLY;BYMONTH=3;BYDAY=-1SU
END:DAYLIGHT
BEGIN:STANDARD
TZOFFSETFROM:+0100
TZOFFSETTO:+0000
TZNAME:GMT
DTSTART:20211031T020000Z
RRULE:FREQ=YEARLY;BYMONTH=10;BYDAY=-1SU
END:STANDARD
END:VTIMEZONE
BEGIN:VEVENT
SUMMARY:[TESO] Учебное нормал испытание
	 Солнечный шпиль (nSS)
DTSTAMP:20210129T151403Z
SEQUENCE:0
UID:8871-1-afb15bc42254ad5fb0481ce5e9c8144d@forum.bandits-clan.ru
ORGANIZER;CN="Sinbann":web@bandits-clan.ru
DESCRIPTION:\n	В 19:00 по МСК приг
	лашаю всех желаю
	щих от 160 ОГ пройти норм
	ал версию испытания 
	\"Солнечный шпиль\"\n\n
	\n\n	Для успешного прохожде
	ния нам потребуются: 1-2 
	танка\, 1 хил\, 8-9 ДД. 
	Для участия нео
	бходимо нажать кн
	опку \"Пойду\" справа п
	о курсу и написать свой
	 игровой ID и роль ниже.\
	n\n\n\n	Новичкам в поко
	рении триалов буду рада\, вс
	ё расскажу и покажу.\n\n\n\
	n	 \n\n\n\n	Внимание\, требуется гл
	ава Эльсвейр.\n\n\n\n	 \n\n
	\n\n	Дресскод пара
	дный (табард) со всем необ
	ходимым (ремкомплекты\, кам
	ни душ).\n\n\n\n	 \n\n\n\n	Обязател
	ьно присутствие в Team
	speak канал Учебн
	ое испытание.\nСбор 
	в гильдхолле (Большое топ
	альское убежище\, тп на @Kibert) з
	а 15 минут до начала триала.\
	n\n\n\n	 \n\n\n\n	Желательно наличие аддонов:\nCo
	de Combat Alert\nRaid Notifier\nBandit User Interface\n\n\n\n	 \n\n\n\n
		Окончатель
	ное решение о составе рейда ост
	аётся на усмотрение рейд-лидера\n
DTSTART:20210203T160000Z
ATTENDEE;CN="Sinbann";CUTYPE=INDIVIDUAL;PARTSTAT=ACCEPTED:we
	b@bandits-clan.ru
ATTENDEE;CN="Kaltcifer";CUTYPE=INDIVIDUAL;PARTSTAT=ACCEPTED:
	web@bandits-clan.ru
ATTENDEE;CN="Yoka";CUTYPE=INDIVIDUAL;PARTSTAT=ACCEPTED:web@b
	andits-clan.ru
ATTENDEE;CN="Taimer";CUTYPE=INDIVIDUAL;PARTSTAT=ACCEPTED:web
	@bandits-clan.ru
ATTENDEE;CN="TheJumpingBeaver";CUTYPE=INDIVIDUAL;PARTSTAT=AC
	CEPTED:web@bandits-clan.ru
ATTENDEE;CN="Mitrain";CUTYPE=INDIVIDUAL;PARTSTAT=ACCEPTED:we
	b@bandits-clan.ru
ATTENDEE;CN="RastyCohle";CUTYPE=INDIVIDUAL;PARTSTAT=ACCEPTED
	:web@bandits-clan.ru
ATTENDEE;CN="gregorydj";CUTYPE=INDIVIDUAL;PARTSTAT=ACCEPTED:
	web@bandits-clan.ru
ATTENDEE;CN="AlexR";CUTYPE=INDIVIDUAL;PARTSTAT=ACCEPTED:web@
	bandits-clan.ru
ATTENDEE;CN="protosyss";CUTYPE=INDIVIDUAL;PARTSTAT=ACCEPTED:
	web@bandits-clan.ru
ATTENDEE;CN="paradiys";CUTYPE=INDIVIDUAL;PARTSTAT=ACCEPTED:w
	eb@bandits-clan.ru
END:VEVENT
END:VCALENDAR
