BEGIN:VCALENDAR
VERSION:2.0
PRODID:-//InvisionCommunity Events 4.7.14//EN
METHOD:PUBLISH
CALSCALE:GREGORIAN
REFRESH-INTERVAL:PT15M
X-PUBLISHED-TTL:PT15M
X-WR-CALNAME:The Elder Scrolls Online
NAME:The Elder Scrolls Online
BEGIN:VTIMEZONE
TZID:Europe/London
TZURL:http://tzurl.org/zoneinfo/Europe/London
X-LIC-LOCATION:Europe/London
BEGIN:DAYLIGHT
TZOFFSETFROM:+0000
TZOFFSETTO:+0100
TZNAME:BST
DTSTART:20210328T020000Z
RRULE:FREQ=YEARLY;BYMONTH=3;BYDAY=-1SU
END:DAYLIGHT
BEGIN:STANDARD
TZOFFSETFROM:+0100
TZOFFSETTO:+0000
TZNAME:GMT
DTSTART:20211031T020000Z
RRULE:FREQ=YEARLY;BYMONTH=10;BYDAY=-1SU
END:STANDARD
END:VTIMEZONE
BEGIN:VEVENT
SUMMARY:(ESO) Учебное Испытание vCR+0
DTSTAMP:20210129T073854Z
SEQUENCE:0
UID:8870-1-afb15bc42254ad5fb0481ce5e9c8144d@forum.bandits-clan.ru
ORGANIZER;CN="AleshaMad":web@bandits-clan.ru
DESCRIPTION:\n	\n\n\n	В 19.30 по московск
	ому времени\n\n\n\n	Пр
	иглашаю всех желающих
	 пройти vCR+0 ( ветеранский клау
	дрест )\n\n	Нужно : \n\n\n\n	2 хила ( ветера
	н + )\n\n\n\n	1 tank ( ветеран +
	 ) Будем рассматривать на роль в с
	татике Madness \n\n\n\n	8 дд - ( от 3
	5к дпс в 3kk ) Будем рассматрив
	ать на роль в статике Madness 
	\n\n\n\n	Табард\n\n	Тимспик ( Учебное Испы
	тание )\n\n\n\n	 \n\n\n\n	 \n\n\n\n	 \n\n\n\
	n	P.S аддоны которые нужны для триалов:\n\n\n\
	n	Code Combat Alert\n\n	Raid Notifier\n\n	Bandit User Interface\n\n\n\n	
	Учебный ТРИАЛ!!! \n
	\n\n\n	Решение о составе группы остается з
	а рейд лидером!!!\n
DTSTART:20210204T163000Z
END:VEVENT
END:VCALENDAR
