BEGIN:VCALENDAR
VERSION:2.0
PRODID:-//InvisionCommunity Events 4.7.14//EN
METHOD:PUBLISH
CALSCALE:GREGORIAN
REFRESH-INTERVAL:PT15M
X-PUBLISHED-TTL:PT15M
X-WR-CALNAME:The Elder Scrolls Online
NAME:The Elder Scrolls Online
BEGIN:VTIMEZONE
TZID:Europe/London
TZURL:http://tzurl.org/zoneinfo/Europe/London
X-LIC-LOCATION:Europe/London
BEGIN:DAYLIGHT
TZOFFSETFROM:+0000
TZOFFSETTO:+0100
TZNAME:BST
DTSTART:20210328T020000Z
RRULE:FREQ=YEARLY;BYMONTH=3;BYDAY=-1SU
END:DAYLIGHT
BEGIN:STANDARD
TZOFFSETFROM:+0100
TZOFFSETTO:+0000
TZNAME:GMT
DTSTART:20211031T020000Z
RRULE:FREQ=YEARLY;BYMONTH=10;BYDAY=-1SU
END:STANDARD
END:VTIMEZONE
BEGIN:VEVENT
SUMMARY:(ESO) Учебное Испытание vCR+0
DTSTAMP:20210129T073512Z
SEQUENCE:0
UID:8868-1-afb15bc42254ad5fb0481ce5e9c8144d@forum.bandits-clan.ru
ORGANIZER;CN="AleshaMad":web@bandits-clan.ru
DESCRIPTION:\n	\n\n\n	В 19.30 по московск
	ому времени\n\n\n\n	П
	риглашаю всех жел
	ающих пофармить vCR+0 ( вете
	ранский клаудрест )\n\n	Нужно : \n\n\n\n
		2 хила ( ветеран + )\n\n\n\n	1 ta
	nk ( ветеран + ) Будем рассматри
	вать на роль в статике Madness \n\n\n\n	
	8 дд - ( от 35к дпс в 3kk ) Буд
	ем рассматривать на роль в ста
	тике Madness \n\n\n\n	Табард\n\n	Тимсп
	ик ( Учебное Испытание )\n\n\n\n	 \n\n\n\n	 \n
	\n\n\n	 \n\n\n\n	P.S аддоны которые нужны для
	 триалов:\n\n\n\n	Code Combat Alert\n\n	Raid Notifier\n\n	Bandit Us
	er Interface\n\n\n\n	Учебный ТРИАЛ!!!
	 \n\n\n\n	Решение о составе группы остает
	ся за рейд лидером!!!\n
DTSTART:20210128T190000Z
END:VEVENT
END:VCALENDAR
