BEGIN:VCALENDAR
VERSION:2.0
PRODID:-//InvisionCommunity Events 4.7.14//EN
METHOD:PUBLISH
CALSCALE:GREGORIAN
REFRESH-INTERVAL:PT15M
X-PUBLISHED-TTL:PT15M
X-WR-CALNAME:The Elder Scrolls Online
NAME:The Elder Scrolls Online
BEGIN:VTIMEZONE
TZID:Europe/London
TZURL:http://tzurl.org/zoneinfo/Europe/London
X-LIC-LOCATION:Europe/London
BEGIN:DAYLIGHT
TZOFFSETFROM:+0000
TZOFFSETTO:+0100
TZNAME:BST
DTSTART:20210328T020000Z
RRULE:FREQ=YEARLY;BYMONTH=3;BYDAY=-1SU
END:DAYLIGHT
BEGIN:STANDARD
TZOFFSETFROM:+0100
TZOFFSETTO:+0000
TZNAME:GMT
DTSTART:20211031T020000Z
RRULE:FREQ=YEARLY;BYMONTH=10;BYDAY=-1SU
END:STANDARD
END:VTIMEZONE
BEGIN:VEVENT
SUMMARY:(ESO) Фармовое Испытание vCR+0
DTSTAMP:20210128T203550Z
SEQUENCE:0
UID:8867-1-afb15bc42254ad5fb0481ce5e9c8144d@forum.bandits-clan.ru
ORGANIZER;CN="AleshaMad":web@bandits-clan.ru
DESCRIPTION:\n	 \n\n\n\n	\n\n\n	В 19.00 по москов
	скому времени\n\n\n\
	n	Приглашаю всех же
	лающих пофармить vCR+0 ( вет
	еранский клаудрест )\n\n	Нужно : \n\n\n
	\n	2 хила ( ветеран + )\n\n\n\n	1 t
	ank ( ветеран + ) Будем рассматр
	ивать на роль в статике Madness \n\n\n\
	n	8 дд - ( от 40к дпс в 3kk ) Бу
	дем рассматривать на роль в ст
	атике Madness \n\n\n\n	Табард\n\n	Тимспик ( Madness )
	\n\n\n\n	 \n\n\n\n	 \n\n\n\n	 \n\n\n\n	P.S а
	ддоны которые нужны для триалов:\n\n\n\n	Code C
	ombat Alert\n\n	Raid Notifier\n\n	Bandit User Interface\n\n\n\n	Ф
	армовый ТРИАЛ!!! ( знание м
	еханик !!! )\n\n\n\n	Решен
	ие о составе группы остается за рей
	д лидером!!!\n\n\n\n	 \n\n\n\n	 \n\n\n\n	 \n\n\n\n	 \n\n\n\n	
	 \n
DTSTART:20210130T160000Z
END:VEVENT
END:VCALENDAR
