BEGIN:VCALENDAR
VERSION:2.0
PRODID:-//InvisionCommunity Events 4.7.14//EN
METHOD:PUBLISH
CALSCALE:GREGORIAN
REFRESH-INTERVAL:PT15M
X-PUBLISHED-TTL:PT15M
X-WR-CALNAME:The Elder Scrolls Online
NAME:The Elder Scrolls Online
BEGIN:VTIMEZONE
TZID:Europe/London
TZURL:http://tzurl.org/zoneinfo/Europe/London
X-LIC-LOCATION:Europe/London
BEGIN:DAYLIGHT
TZOFFSETFROM:+0000
TZOFFSETTO:+0100
TZNAME:BST
DTSTART:20210328T020000Z
RRULE:FREQ=YEARLY;BYMONTH=3;BYDAY=-1SU
END:DAYLIGHT
BEGIN:STANDARD
TZOFFSETFROM:+0100
TZOFFSETTO:+0000
TZNAME:GMT
DTSTART:20211031T020000Z
RRULE:FREQ=YEARLY;BYMONTH=10;BYDAY=-1SU
END:STANDARD
END:VTIMEZONE
BEGIN:VEVENT
SUMMARY:[TESO] ПВП-Рейд \"Bad Boys Bandits\"
DTSTAMP:20210126T094913Z
SEQUENCE:0
UID:8859-1-afb15bc42254ad5fb0481ce5e9c8144d@forum.bandits-clan.ru
ORGANIZER;CN="Nivhooreel":web@bandits-clan.ru
DESCRIPTION:\n	\n\n\n\n	Пригла
	шаем любителе
	й ПвП присоедин
	иться к боям в 
	Сиродииле. Наша
	 основная цель - на
	йти бои погуще да 
	пожирнее\, и ворв
	аться в них\; а
	 также - зас
	тавить стати
	ки спрыгиват
	ь со второго 
	этажа крепост
	ей и ретироват
	ься\, а башенны
	х воинов и ка
	мнелюбов\, 
	кичащихся св
	оей неубиваем
	остью - улепётывать
	 до самого Ввандерфела\, пр
	и виде наших табардов.\n\n\n	Сбор с 19 00 
	в ТС канале Bad Boys Bandits\
	n\n	Длительност
	ь не регламентир
	ована\, обычно иг
	раем на протяже
	нии 4 часов\, в те
	чение которых мо
	жно как присоединит
	ься к рейду\, так и завершить 
	поход.\n\n	Кампания \"Серая Рать\" (Gray Ho
	st)\n\n	Рейд лидер - @SociophobicCat\n\n	Тре
	бования:\n\n\n\n		Гото
	вность следовать 
	за лидером\, не вход
	ить в бой без рейда\, 
	и выходить из боя\, мен
	ять цели вместе с рейд
	ом.\n	\n	\n		Согласованные
	 с рейд-лидером класс\, 
	морфы скиллов\, сеты.\n	\n	\n		Н
	ахождение в голосовом канале Bad Boys Band
	its в Teamspeak.\n	\n	\n		Мин
	имальный набор установленн
	ых обязательных дополнений:\nYe
	t Another Compass\, любой адд-он на 
	неотключаемую в бою мини-карту - Badits User Int
	erface\, Votan's Mini Map\, Любой ад
	д-он\, показываю
	щий корону и направление 
	на неё\, есть в том же бандитском или 
	Exterminatus Group Leader\, большинство нео
	бходимого имеется в Taos 
	Group Tools. Все перечи
	сленные доступны к устано
	вке и обновлениям через Minion.
	\n	\n	\n		Табард гильдии\, 
	разумеется.\n	\n\n	Н
	ужные рейду рол
	и можно посмотрет
	ь здесь\, в той ж
	е теме ссылка
	 на дискорд\, где мож
	но ознакомиться с бил
	дами и дополнениями.\n
	\n\n\n	Также\, если вы 
	хотите попробо
	вать и решить\,
	 подойдёт ли 
	вам это\, т
	о имеется в
	озможность
	 попробоват
	ь пойти ваш
	им предпо
	чтимым кл
	ассом\, но ну
	жно соответствова
	ть некоторым дополнительным тр
	ебованиям:\n\n\n\n		Более 160 
	ЧП.\n	\n	\n		Прокачанные
	 скорость лошади более 50\,
	 выносливость лошади - бол
	ее 20.\n	\n	\n		Минимум 30к ХП в чемпи
	онской кампании.\n	\n	\n		AoE 
	урон\, наличие контр
	оля.\n	\n\n	Подробн
	ее распросить
	 можете любого\, 
	кого увидите в тимспике с большой свет
	ло-синей буквой 'B'.\n
DTSTART:20210128T160000Z
END:VEVENT
END:VCALENDAR
