BEGIN:VCALENDAR
VERSION:2.0
PRODID:-//InvisionCommunity Events 4.7.14//EN
METHOD:PUBLISH
CALSCALE:GREGORIAN
REFRESH-INTERVAL:PT15M
X-PUBLISHED-TTL:PT15M
X-WR-CALNAME:The Elder Scrolls Online
NAME:The Elder Scrolls Online
BEGIN:VTIMEZONE
TZID:Europe/London
TZURL:http://tzurl.org/zoneinfo/Europe/London
X-LIC-LOCATION:Europe/London
BEGIN:DAYLIGHT
TZOFFSETFROM:+0000
TZOFFSETTO:+0100
TZNAME:BST
DTSTART:20210328T020000Z
RRULE:FREQ=YEARLY;BYMONTH=3;BYDAY=-1SU
END:DAYLIGHT
BEGIN:STANDARD
TZOFFSETFROM:+0100
TZOFFSETTO:+0000
TZNAME:GMT
DTSTART:20211031T020000Z
RRULE:FREQ=YEARLY;BYMONTH=10;BYDAY=-1SU
END:STANDARD
END:VTIMEZONE
BEGIN:VEVENT
SUMMARY:[TESO] Учебное испытание nCR+0 (норма
	л Клаудрест)
DTSTAMP:20210125T174801Z
SEQUENCE:0
UID:8856-1-afb15bc42254ad5fb0481ce5e9c8144d@forum.bandits-clan.ru
ORGANIZER;CN="Sinbann":web@bandits-clan.ru
DESCRIPTION:\n	В 19:00 по МСК приг
	лашаю всех желающ
	их от 160 ОГ пройти
	 нормал версию испытания \"Кла
	удрест\" для сбора сетов:\n\n\n\n	 \n\
	n\n\n	- Сирория\;\n- Релеквен\;\n- Галенве\;
	\n- Олорима.\n\n\n\n	 \n\n\n\
	n	Для успешного прохожд
	ения нам потребуются:
	 2 танка\, 1 хил\, 8 ДД. 
	Для участия нео
	бходимо нажать кн
	опку \"Пойду\" справа
	 по курсу и написа
	ть свой игровой ID 
	и роль ниже.\nНо
	вичкам в покорении триал
	ов буду рада\, всё расскажу и 
	покажу.\n\n\n\n	 \n\n\n\n	Внимание\
	, требуется глава Саммерсет.
	\n\n\n\n	 \n\n\n\n	Дресс-код
	 парадный (табард) со в
	сем необходимым (ремкомплект
	ы\, камни душ).\n\n\n\n	 \n\n\n\n	Обя
	зательно присутствие
	 в Teamspeak канал Уче
	бное испытание.\nС
	бор в гильдхолле (Большое
	 топальское убежище\, тп на @Kib
	ert) за 15 минут до начала тр
	иала.\n\n\n\n	Желательно наличие аддонов:\n\n\
	n\n	Code Combat Alert\nRaid Notifier\nBandit User Interface\n\n\n\n	 \n\n
	\n\n	После прохож
	дения всем у
	частникам буд
	ут проставлен
	ы отметки. \n\n
		Окончательн
	ое решение о со
	ставе группы ост
	аётся за рейд-лидером\, прио
	ритет тем\, кто ни разу не был в триале\n
DTSTART:20210207T160000Z
ATTENDEE;CN="Sinbann";CUTYPE=INDIVIDUAL;PARTSTAT=ACCEPTED:we
	b@bandits-clan.ru
ATTENDEE;CN="Pupezky";CUTYPE=INDIVIDUAL;PARTSTAT=ACCEPTED:we
	b@bandits-clan.ru
ATTENDEE;CN="gregorydj";CUTYPE=INDIVIDUAL;PARTSTAT=ACCEPTED:
	web@bandits-clan.ru
ATTENDEE;CN="TheJumpingBeaver";CUTYPE=INDIVIDUAL;PARTSTAT=AC
	CEPTED:web@bandits-clan.ru
ATTENDEE;CN="WerecoonEmpress";CUTYPE=INDIVIDUAL;PARTSTAT=ACC
	EPTED:web@bandits-clan.ru
ATTENDEE;CN="Taimer";CUTYPE=INDIVIDUAL;PARTSTAT=ACCEPTED:web
	@bandits-clan.ru
ATTENDEE;CN="Yoka";CUTYPE=INDIVIDUAL;PARTSTAT=ACCEPTED:web@b
	andits-clan.ru
ATTENDEE;CN="Copoc";CUTYPE=INDIVIDUAL;PARTSTAT=ACCEPTED:web@
	bandits-clan.ru
ATTENDEE;CN="Mysterio";CUTYPE=INDIVIDUAL;PARTSTAT=ACCEPTED:w
	eb@bandits-clan.ru
ATTENDEE;CN="Akronaft";CUTYPE=INDIVIDUAL;PARTSTAT=ACCEPTED:w
	eb@bandits-clan.ru
ATTENDEE;CN="MishaAverin";CUTYPE=INDIVIDUAL;PARTSTAT=ACCEPTE
	D:web@bandits-clan.ru
ATTENDEE;CN="warrean";CUTYPE=INDIVIDUAL;PARTSTAT=ACCEPTED:we
	b@bandits-clan.ru
ATTENDEE;CN="HappyDragon";CUTYPE=INDIVIDUAL;PARTSTAT=ACCEPTE
	D:web@bandits-clan.ru
END:VEVENT
END:VCALENDAR
