BEGIN:VCALENDAR
VERSION:2.0
PRODID:-//InvisionCommunity Events 4.7.14//EN
METHOD:PUBLISH
CALSCALE:GREGORIAN
REFRESH-INTERVAL:PT15M
X-PUBLISHED-TTL:PT15M
X-WR-CALNAME:The Elder Scrolls Online
NAME:The Elder Scrolls Online
BEGIN:VTIMEZONE
TZID:Europe/London
TZURL:http://tzurl.org/zoneinfo/Europe/London
X-LIC-LOCATION:Europe/London
BEGIN:DAYLIGHT
TZOFFSETFROM:+0000
TZOFFSETTO:+0100
TZNAME:BST
DTSTART:20210328T020000Z
RRULE:FREQ=YEARLY;BYMONTH=3;BYDAY=-1SU
END:DAYLIGHT
BEGIN:STANDARD
TZOFFSETFROM:+0100
TZOFFSETTO:+0000
TZNAME:GMT
DTSTART:20211031T020000Z
RRULE:FREQ=YEARLY;BYMONTH=10;BYDAY=-1SU
END:STANDARD
END:VTIMEZONE
BEGIN:VEVENT
SUMMARY:[Teso]vCR+0 отборочный рейд Madness
DTSTAMP:20210125T160144Z
SEQUENCE:0
UID:8855-1-afb15bc42254ad5fb0481ce5e9c8144d@forum.bandits-clan.ru
ORGANIZER;CN="Lihar":web@bandits-clan.ru
DESCRIPTION:\n	\n\n\n\n	\nMadness объявл
	яет набор свежей крови! (Т
	опик статика)\n\n\n\n	Ста
	рт события в 19.30 мск. Идем в в
	етеранский Клаудрест (vCR)+0.\n\n\n\n	Требов
	ания:\n\n\n\n	DD - 40к+ dps (3kk)\n\n\n\n	Tank - ветеран+\n\n
	\n\n	Heal - ветеран+\n\n\n\n
		Смотреть будем в первую очередь 
	на обучаемость и ваши навыки.\n
DTSTART:20210127T163000Z
END:VEVENT
END:VCALENDAR
