BEGIN:VCALENDAR
VERSION:2.0
PRODID:-//InvisionCommunity Events 4.7.14//EN
METHOD:PUBLISH
CALSCALE:GREGORIAN
REFRESH-INTERVAL:PT15M
X-PUBLISHED-TTL:PT15M
X-WR-CALNAME:The Elder Scrolls Online
NAME:The Elder Scrolls Online
BEGIN:VTIMEZONE
TZID:Europe/London
TZURL:http://tzurl.org/zoneinfo/Europe/London
X-LIC-LOCATION:Europe/London
BEGIN:DAYLIGHT
TZOFFSETFROM:+0000
TZOFFSETTO:+0100
TZNAME:BST
DTSTART:20210328T020000Z
RRULE:FREQ=YEARLY;BYMONTH=3;BYDAY=-1SU
END:DAYLIGHT
BEGIN:STANDARD
TZOFFSETFROM:+0100
TZOFFSETTO:+0000
TZNAME:GMT
DTSTART:20211031T020000Z
RRULE:FREQ=YEARLY;BYMONTH=10;BYDAY=-1SU
END:STANDARD
END:VTIMEZONE
BEGIN:VEVENT
SUMMARY:(TESO) Достижения в подземельях
DTSTAMP:20210124T171444Z
SEQUENCE:0
UID:8850-1-afb15bc42254ad5fb0481ce5e9c8144d@forum.bandits-clan.ru
ORGANIZER;CN="Longffellow":web@bandits-clan.ru
DESCRIPTION:\n	\n\n\n\n	 \n\n\n\n	С 19:00 по МСК \n
	\n\n\n	Приглашаю желающих в зва
	нии от Bandit+ (при недобо
	ре возьму Raider+)
	 закрыть дости
	жения в подземел
	ьях дополнения \"Имперски
	й город\" (Спидран\, неумирайка
	\, ХМ) \n\n\n\n	Нужен Танк\,
	 Хил и 1 ДД. Рол
	ь указывайте в коммента
	риях. Состав группы на усмотре
	ние РЛа.\n\n\n\n	TeamSpeak\, Табард и хороше
	е настроение!\n
DTSTART:20210131T140000Z
ATTENDEE;CN="Longffellow";CUTYPE=INDIVIDUAL;PARTSTAT=ACCEPTE
	D:web@bandits-clan.ru
ATTENDEE;CN="F4N7";CUTYPE=INDIVIDUAL;PARTSTAT=ACCEPTED:web@b
	andits-clan.ru
ATTENDEE;CN="эрнесто";CUTYPE=INDIVIDUAL;PARTSTAT=ACCE
	PTED:web@bandits-clan.ru
END:VEVENT
END:VCALENDAR
