BEGIN:VCALENDAR
VERSION:2.0
PRODID:-//InvisionCommunity Events 4.7.14//EN
METHOD:PUBLISH
CALSCALE:GREGORIAN
REFRESH-INTERVAL:PT15M
X-PUBLISHED-TTL:PT15M
X-WR-CALNAME:The Elder Scrolls Online
NAME:The Elder Scrolls Online
BEGIN:VTIMEZONE
TZID:Europe/London
TZURL:http://tzurl.org/zoneinfo/Europe/London
X-LIC-LOCATION:Europe/London
BEGIN:DAYLIGHT
TZOFFSETFROM:+0000
TZOFFSETTO:+0100
TZNAME:BST
DTSTART:20210328T020000Z
RRULE:FREQ=YEARLY;BYMONTH=3;BYDAY=-1SU
END:DAYLIGHT
BEGIN:STANDARD
TZOFFSETFROM:+0100
TZOFFSETTO:+0000
TZNAME:GMT
DTSTART:20211031T020000Z
RRULE:FREQ=YEARLY;BYMONTH=10;BYDAY=-1SU
END:STANDARD
END:VTIMEZONE
BEGIN:VEVENT
SUMMARY:[TESO] Учебное испытание vCR+0
	 (ветеранский Клаудрест)
DTSTAMP:20210123T222150Z
SEQUENCE:0
UID:8844-1-afb15bc42254ad5fb0481ce5e9c8144d@forum.bandits-clan.ru
ORGANIZER;CN="VladRevenant":web@bandits-clan.ru
DESCRIPTION:\n	Приглашаю жела
	ющих от 400 ОГ в 19
	:00 по МСК научит
	ься проходить испыт
	ание vCR+0 (ветеранский Клау
	дрест)\n\n\n\n	Будут нужны
	: 2 танк\, 2 хила\, 8 д
	д (Для подтвер
	ждения нажима
	ем кнопку \"Пой
	ду\"\, ниже в коммента
	риях указываем свой игро
	вой ID и роль)\n\n\n\n	Требовани
	я:\n\n	ДД - аттестация от 35
	к дпс\n\n	Танки - атт
	естация нормал\n
	\n	Хиллеры - аттестаци
	я ветеран\nТребуется 
	дополнение \"Саммерсет\"\n
	\n\n\n	Сбор в гильдхолле за 10-15 ми
	нут до начала (18:45-18:50)
	\, заходим в ТС\
	, канал Учебно
	е  испытание (Н
	ахождение в ТС 
	обязательно! М
	ожно без голоса\
	, но с возможность
	ю слушать)\nНезабыва
	ем про: Табарды\, Камни
	 душ\, Рем.комплекты\
	, Банки\n\n\n\n	Пос
	ле успешно
	го прохождения данного и
	спытания\, всем будут проставлены отмет
	ки!\n
DTSTART:20210128T160000Z
DTEND:20210128T193000Z
ATTENDEE;CN="paradiys";CUTYPE=INDIVIDUAL;PARTSTAT=ACCEPTED:w
	eb@bandits-clan.ru
ATTENDEE;CN="VoronNika";CUTYPE=INDIVIDUAL;PARTSTAT=ACCEPTED:
	web@bandits-clan.ru
ATTENDEE;CN="VladRevenant";CUTYPE=INDIVIDUAL;PARTSTAT=ACCEPT
	ED:web@bandits-clan.ru
ATTENDEE;CN="vidarr";CUTYPE=INDIVIDUAL;PARTSTAT=ACCEPTED:web
	@bandits-clan.ru
ATTENDEE;CN="Jibus";CUTYPE=INDIVIDUAL;PARTSTAT=ACCEPTED:web@
	bandits-clan.ru
ATTENDEE;CN="Dushman";CUTYPE=INDIVIDUAL;PARTSTAT=ACCEPTED:we
	b@bandits-clan.ru
ATTENDEE;CN="timon1345";CUTYPE=INDIVIDUAL;PARTSTAT=ACCEPTED:
	web@bandits-clan.ru
ATTENDEE;CN="Yurets_91";CUTYPE=INDIVIDUAL;PARTSTAT=ACCEPTED:
	web@bandits-clan.ru
ATTENDEE;CN="StephenDedalus";CUTYPE=INDIVIDUAL;PARTSTAT=ACCE
	PTED:web@bandits-clan.ru
ATTENDEE;CN="zumma";CUTYPE=INDIVIDUAL;PARTSTAT=ACCEPTED:web@
	bandits-clan.ru
ATTENDEE;CN="FairStrike";CUTYPE=INDIVIDUAL;PARTSTAT=ACCEPTED
	:web@bandits-clan.ru
ATTENDEE;CN="yovv";CUTYPE=INDIVIDUAL;PARTSTAT=ACCEPTED:web@b
	andits-clan.ru
ATTENDEE;CN="wentef";CUTYPE=INDIVIDUAL;PARTSTAT=ACCEPTED:web
	@bandits-clan.ru
ATTENDEE;CN="HardMel";CUTYPE=INDIVIDUAL;PARTSTAT=ACCEPTED:we
	b@bandits-clan.ru
ATTENDEE;CN="Gotrein";CUTYPE=INDIVIDUAL;PARTSTAT=ACCEPTED:we
	b@bandits-clan.ru
ATTENDEE;CN="Nephilimeaw";CUTYPE=INDIVIDUAL;PARTSTAT=ACCEPTE
	D:web@bandits-clan.ru
END:VEVENT
END:VCALENDAR
