BEGIN:VCALENDAR
VERSION:2.0
PRODID:-//InvisionCommunity Events 4.7.14//EN
METHOD:PUBLISH
CALSCALE:GREGORIAN
REFRESH-INTERVAL:PT15M
X-PUBLISHED-TTL:PT15M
X-WR-CALNAME:The Elder Scrolls Online
NAME:The Elder Scrolls Online
BEGIN:VTIMEZONE
TZID:Europe/London
TZURL:http://tzurl.org/zoneinfo/Europe/London
X-LIC-LOCATION:Europe/London
BEGIN:DAYLIGHT
TZOFFSETFROM:+0000
TZOFFSETTO:+0100
TZNAME:BST
DTSTART:20210328T020000Z
RRULE:FREQ=YEARLY;BYMONTH=3;BYDAY=-1SU
END:DAYLIGHT
BEGIN:STANDARD
TZOFFSETFROM:+0100
TZOFFSETTO:+0000
TZNAME:GMT
DTSTART:20211031T020000Z
RRULE:FREQ=YEARLY;BYMONTH=10;BYDAY=-1SU
END:STANDARD
END:VTIMEZONE
BEGIN:VEVENT
SUMMARY:[TESO] Боссы Ввард
	енфелла\, Ротгара\, П
	роклятия Хью\, Золотого Берега и Заводно
	го Города.
DTSTAMP:20210123T202952Z
SEQUENCE:0
UID:8840-1-afb15bc42254ad5fb0481ce5e9c8144d@forum.bandits-clan.ru
ORGANIZER;CN="Ил Арион":web@bandits-clan.ru
DESCRIPTION:\n	с 20-00 по МСК\n\n\n\n	 \n\n\
	n\n	Приглашаю
	 всех желающ
	их любого уро
	вня пробежатьс
	я по боссам лок
	аций Вварденфел
	ла\, Ротгара\, Прокляти
	я Хью\, Золотого Берега и За
	водного Города.\n\n\n\n	 \n\
	n\n\n	Закроем дос
	тижения\, пофа
	рмим зацепки\, сд
	елаем ежедневные квесты на бо
	ссов\, получим лут и опыт.\n\n\n\n
		 \n\n\n\n	Требования:\n\n	
	- дополнения: Мор
	ровинд\, Орсиниум\, 
	Темное Братство\
	, Гильдия Воров и Зав
	одной Город\n\n	- гильдейская н
	акидка\n\n	- присутствие в ТС\n\
	n\n\n	 \n\n\n\n	Сбор в ТС в комнате Миро
	вые Боссы\n\n\n\n	 \n\n\n\n	Жмем кнопочку по
	йду слева 
DTSTART:20210213T170000Z
DTEND:20210213T171500Z
ATTENDEE;CN="Ил Арион";CUTYPE=INDIVIDUAL;PARTSTAT=ACC
	EPTED:web@bandits-clan.ru
ATTENDEE;CN="Distvamp";CUTYPE=INDIVIDUAL;PARTSTAT=ACCEPTED:w
	eb@bandits-clan.ru
ATTENDEE;CN="Copoc";CUTYPE=INDIVIDUAL;PARTSTAT=ACCEPTED:web@
	bandits-clan.ru
ATTENDEE;CN="Monterro";CUTYPE=INDIVIDUAL;PARTSTAT=ACCEPTED:w
	eb@bandits-clan.ru
ATTENDEE;CN="@Yoldar";CUTYPE=INDIVIDUAL;PARTSTAT=ACCEPTED:we
	b@bandits-clan.ru
ATTENDEE;CN="ivmos";CUTYPE=INDIVIDUAL;PARTSTAT=ACCEPTED:web@
	bandits-clan.ru
ATTENDEE;CN="vadims55";CUTYPE=INDIVIDUAL;PARTSTAT=ACCEPTED:w
	eb@bandits-clan.ru
ATTENDEE;CN="Mcnaiv";CUTYPE=INDIVIDUAL;PARTSTAT=ACCEPTED:web
	@bandits-clan.ru
ATTENDEE;CN="Chezter";CUTYPE=INDIVIDUAL;PARTSTAT=ACCEPTED:we
	b@bandits-clan.ru
END:VEVENT
END:VCALENDAR
