BEGIN:VCALENDAR
VERSION:2.0
PRODID:-//InvisionCommunity Events 4.7.14//EN
METHOD:PUBLISH
CALSCALE:GREGORIAN
REFRESH-INTERVAL:PT15M
X-PUBLISHED-TTL:PT15M
X-WR-CALNAME:The Elder Scrolls Online
NAME:The Elder Scrolls Online
BEGIN:VTIMEZONE
TZID:Europe/London
TZURL:http://tzurl.org/zoneinfo/Europe/London
X-LIC-LOCATION:Europe/London
BEGIN:DAYLIGHT
TZOFFSETFROM:+0000
TZOFFSETTO:+0100
TZNAME:BST
DTSTART:20210328T020000Z
RRULE:FREQ=YEARLY;BYMONTH=3;BYDAY=-1SU
END:DAYLIGHT
BEGIN:STANDARD
TZOFFSETFROM:+0100
TZOFFSETTO:+0000
TZNAME:GMT
DTSTART:20211031T020000Z
RRULE:FREQ=YEARLY;BYMONTH=10;BYDAY=-1SU
END:STANDARD
END:VTIMEZONE
BEGIN:VEVENT
SUMMARY:Мировые боссы в Мрачных Тр
	ясинах и других DLC
DTSTAMP:20210122T210418Z
SEQUENCE:0
UID:8839-1-afb15bc42254ad5fb0481ce5e9c8144d@forum.bandits-clan.ru
ORGANIZER;CN="Aquifolius":web@bandits-clan.ru
DESCRIPTION:\n	Собираем
	ся на выполнени
	е квестов на миро
	вых боссов в Мур
	кмайре и других D
	LC-локациях\, полу
	чаем коробочки с 
	сетовыми вещами\,
	 камни стиля\, моти
	вы\, зацепки\, кач
	аем персонажей. Л
	юбая раса\, любой альянс\, любой уровень. 
	Тимспик\, табард.\n
DTSTART:20210122T211500Z
DTEND:20210123T000000Z
END:VEVENT
END:VCALENDAR
