BEGIN:VCALENDAR
VERSION:2.0
PRODID:-//InvisionCommunity Events 4.7.14//EN
METHOD:PUBLISH
CALSCALE:GREGORIAN
REFRESH-INTERVAL:PT15M
X-PUBLISHED-TTL:PT15M
X-WR-CALNAME:The Elder Scrolls Online
NAME:The Elder Scrolls Online
BEGIN:VTIMEZONE
TZID:Europe/London
TZURL:http://tzurl.org/zoneinfo/Europe/London
X-LIC-LOCATION:Europe/London
BEGIN:DAYLIGHT
TZOFFSETFROM:+0000
TZOFFSETTO:+0100
TZNAME:BST
DTSTART:20210328T020000Z
RRULE:FREQ=YEARLY;BYMONTH=3;BYDAY=-1SU
END:DAYLIGHT
BEGIN:STANDARD
TZOFFSETFROM:+0100
TZOFFSETTO:+0000
TZNAME:GMT
DTSTART:20211031T020000Z
RRULE:FREQ=YEARLY;BYMONTH=10;BYDAY=-1SU
END:STANDARD
END:VTIMEZONE
BEGIN:VEVENT
SUMMARY:[TESO] Учебное испытание Клаудре
	ст (нормал)
DTSTAMP:20210122T164012Z
SEQUENCE:0
UID:8838-1-afb15bc42254ad5fb0481ce5e9c8144d@forum.bandits-clan.ru
ORGANIZER;CN="Skybae":web@bandits-clan.ru
DESCRIPTION:\n	\n		В 21.00 по МСК\n	\n\n\n\n	\n		\n			 \n		\n\n
			\n			Приглашаю всех жел
	ающих от 160 ОГ пройти и
	спытание \"Клаудрест\
	" (nCr). Особенно если это ваш п
	ервый триал\, записывайтесь!\n		\n\n		
	\n			 \n		\n\n		\n			Для похо
	да в данный триал у вас до
	лжно быть дополнение Саммерсет\n		\n\n
			\n			 \n		\n\n		\n			Нужно: 12 человек\,
	 1 танк\, 1-2 хилера\, остальные - любые дд.\n	
		\n\n		\n			 \n		\n\n		\n			Сбор в ТС\,
	 канал - учебный
	 триал. Место вс
	тречи изменить нельз
	я (гильдхолл)\, дресс
	код - парадный(табарды)\, за 15 м
	инут до начала события.\n		\n\n		\n	
			 \n		\n\n		\n			Для участия на
	жимайте справа на
	 кнопку \"Пойду\"\, а в
	 комментарии внизу пишите свою роль
	 и игровой ID.\n		\n\n		\n			 \n		\n\n		\n		
		P.S аддоны которые нужны для триалов:\n		\n\
	n		\n			 \n		\n\n		\n			Code Combat Alert\n\n			Raid Notifier\n\n			Bandi
	t User Interface\n		\n\n		\n			 \n		\n\n		\n			если
	 вы не знаете что
	 такое аддоны ил
	и не успели их по
	ставить\, то дл
	я нормал верс
	ии это не крит
	ично\, но об
	язательно п
	оставьте их если соберете
	сь идти на ветеранскую версию триала\n		\n	
	\n
DTSTART:20210130T174500Z
DTEND:20210130T180000Z
ATTENDEE;CN="timon1345";CUTYPE=INDIVIDUAL;PARTSTAT=ACCEPTED:
	web@bandits-clan.ru
ATTENDEE;CN="AQuaBonAQua";CUTYPE=INDIVIDUAL;PARTSTAT=ACCEPTE
	D:web@bandits-clan.ru
ATTENDEE;CN="Arradj";CUTYPE=INDIVIDUAL;PARTSTAT=ACCEPTED:web
	@bandits-clan.ru
ATTENDEE;CN="Aslan";CUTYPE=INDIVIDUAL;PARTSTAT=ACCEPTED:web@
	bandits-clan.ru
ATTENDEE;CN="ShalnoyKot";CUTYPE=INDIVIDUAL;PARTSTAT=ACCEPTED
	:web@bandits-clan.ru
ATTENDEE;CN="Ekaterina";CUTYPE=INDIVIDUAL;PARTSTAT=ACCEPTED:
	web@bandits-clan.ru
ATTENDEE;CN="RastyCohle";CUTYPE=INDIVIDUAL;PARTSTAT=ACCEPTED
	:web@bandits-clan.ru
ATTENDEE;CN="Alliya518";CUTYPE=INDIVIDUAL;PARTSTAT=ACCEPTED:
	web@bandits-clan.ru
ATTENDEE;CN="Taimer";CUTYPE=INDIVIDUAL;PARTSTAT=ACCEPTED:web
	@bandits-clan.ru
END:VEVENT
END:VCALENDAR
