BEGIN:VCALENDAR
VERSION:2.0
PRODID:-//InvisionCommunity Events 4.7.14//EN
METHOD:PUBLISH
CALSCALE:GREGORIAN
REFRESH-INTERVAL:PT15M
X-PUBLISHED-TTL:PT15M
X-WR-CALNAME:The Elder Scrolls Online
NAME:The Elder Scrolls Online
BEGIN:VTIMEZONE
TZID:Europe/London
TZURL:http://tzurl.org/zoneinfo/Europe/London
X-LIC-LOCATION:Europe/London
BEGIN:DAYLIGHT
TZOFFSETFROM:+0000
TZOFFSETTO:+0100
TZNAME:BST
DTSTART:20210328T020000Z
RRULE:FREQ=YEARLY;BYMONTH=3;BYDAY=-1SU
END:DAYLIGHT
BEGIN:STANDARD
TZOFFSETFROM:+0100
TZOFFSETTO:+0000
TZNAME:GMT
DTSTART:20211031T020000Z
RRULE:FREQ=YEARLY;BYMONTH=10;BYDAY=-1SU
END:STANDARD
END:VTIMEZONE
BEGIN:VEVENT
SUMMARY:[TESO] Ветеранские подземелья с Ер
	маком
DTSTAMP:20210121T140413Z
SEQUENCE:0
UID:8832-1-afb15bc42254ad5fb0481ce5e9c8144d@forum.bandits-clan.ru
ORGANIZER;CN="Epmak":web@bandits-clan.ru
DESCRIPTION:\n	\n\n\n\n	 \n\n\n\n	КУРС
	 МОЛОДОГО БОЙЦА
	 (ветеранские п
	одземелья) от
	 нашего соклан
	овца Ермака!\
	n\"Приглашаю вс
	ех желающих 
	провести вре
	мя в приятной
	 компании\, а
	 заодно про
	йти ежедне
	вные задания 
	Неустрашимых 
	(либо другие подземел
	ья на выбор группы).\nВетеранские д
	анжи - от 160+ ЧП\, DLC - от 300+ ЧП.\n_______________________
	______________________\n\n\n\n	 \n\n\n\n	Научу\,
	 покажу\, расскажу 
	все механики и такти
	ку.\nСтрим - не помех
	а\, а приятный бон
	ус!\nТы готов по
	йти в поход за 
	нужным монстр-
	сетом и пройти К
	урс Молодого бойц
	а?\nНайди меня в тимспике
	 клана.\nНе можешь найти? Пиши мн
	е в игре (@epmak) или на форуме.\n\n
	\n\n	 \n\n\n\n	Внимани
	е! Необходима миним
	альная аттестация ДД. Подробней об 
	аттестации http://forum.bandits-clan.ru/index.php?showtopic=5254
	7\n\n\n\n	 \n\n\n\n	Всего 3 мест
	а. Спешите!\nНаличи
	е ТС обязательно.
	\nСбор в ТС\, к
	анал Галлифрей.\nОбязательн
	о жмите кнопку подтверждения участия.\n
DTSTART:20210122T150000Z
DTEND:20210122T160000Z
ATTENDEE;CN="F4N7";CUTYPE=INDIVIDUAL;PARTSTAT=ACCEPTED:web@b
	andits-clan.ru
ATTENDEE;CN="Eddyst";CUTYPE=INDIVIDUAL;PARTSTAT=ACCEPTED:web
	@bandits-clan.ru
ATTENDEE;CN="Yurets_91";CUTYPE=INDIVIDUAL;PARTSTAT=ACCEPTED:
	web@bandits-clan.ru
ATTENDEE;CN="Ghost_77";CUTYPE=INDIVIDUAL;PARTSTAT=ACCEPTED:w
	eb@bandits-clan.ru
END:VEVENT
END:VCALENDAR
