BEGIN:VCALENDAR
VERSION:2.0
PRODID:-//InvisionCommunity Events 4.7.14//EN
METHOD:PUBLISH
CALSCALE:GREGORIAN
REFRESH-INTERVAL:PT15M
X-PUBLISHED-TTL:PT15M
X-WR-CALNAME:The Elder Scrolls Online
NAME:The Elder Scrolls Online
BEGIN:VTIMEZONE
TZID:Europe/London
TZURL:http://tzurl.org/zoneinfo/Europe/London
X-LIC-LOCATION:Europe/London
BEGIN:DAYLIGHT
TZOFFSETFROM:+0000
TZOFFSETTO:+0100
TZNAME:BST
DTSTART:20210328T020000Z
RRULE:FREQ=YEARLY;BYMONTH=3;BYDAY=-1SU
END:DAYLIGHT
BEGIN:STANDARD
TZOFFSETFROM:+0100
TZOFFSETTO:+0000
TZNAME:GMT
DTSTART:20211031T020000Z
RRULE:FREQ=YEARLY;BYMONTH=10;BYDAY=-1SU
END:STANDARD
END:VTIMEZONE
BEGIN:VEVENT
SUMMARY:[TESO] Фармовое испытание норм
	ал \"Эгида Кин\"
DTSTAMP:20210121T105835Z
SEQUENCE:0
UID:8830-1-afb15bc42254ad5fb0481ce5e9c8144d@forum.bandits-clan.ru
ORGANIZER;CN="F4N7":web@bandits-clan.ru
DESCRIPTION:\n	Приглашаю
	 всех желающих пофарми
	ть нормал версию триала
	 \"Эгида кин\"!\n\n\n\n	П
	редысловие: Я 
	претендую на сет
	т \"Безупречный а
	вантюрист\" по эт
	ому делимся сетам
	и)\, но в случае е
	сли у меня ест
	ь вещь из сета то гото
	в поделиться\" Первооч
	ерёдно второму хилу\".\n\n\
	n\n	Для него нужно иметь 30
	0 чп\, звание \"Бандит\"
	 и выше\, дополнение \"Г
	реймур\" и требуються 2 Танк
	а\, 1 Хил\, все остальные 
	дд.\n\n\n\n	Для записи
	 в рейд укажите
	 в комментариях 
	вашу роль и игровой I
	D и подтвердите участие\
	, нажав кнопку «Пойду».\
	n\n\n\n	Так же\, будт
	е готовы что 
	на одном разе прохож
	дения мы не остановимс
	я и можем пойти ещё р
	аз.\n\n\n\n	Сбор в Тимс
	пике (канал Фа
	рмовое испыт
	ание) за 15 
	минут до начала со
	бытия.Обязательно наличие гильдей
	ской накидки Daggerfall/Vanguard/Rising Bandits.\n\
	n\n\n	И на последо
	к\, нужно иметь аддон
	ы для успешного прохождения триала\, 
	а именно:\n\n\n\n		Raid Notifier\n	\n	\n		Code's Combat Alert\n	\n	
	\n		Hodor Reflex\n	\n\n	 \n
DTSTART:20210130T130000Z
ATTENDEE;CN="F4N7";CUTYPE=INDIVIDUAL;PARTSTAT=ACCEPTED:web@b
	andits-clan.ru
ATTENDEE;CN="Arradj";CUTYPE=INDIVIDUAL;PARTSTAT=ACCEPTED:web
	@bandits-clan.ru
END:VEVENT
END:VCALENDAR
