BEGIN:VCALENDAR
VERSION:2.0
PRODID:-//InvisionCommunity Events 4.7.14//EN
METHOD:PUBLISH
CALSCALE:GREGORIAN
REFRESH-INTERVAL:PT15M
X-PUBLISHED-TTL:PT15M
X-WR-CALNAME:The Elder Scrolls Online
NAME:The Elder Scrolls Online
BEGIN:VTIMEZONE
TZID:Europe/London
TZURL:http://tzurl.org/zoneinfo/Europe/London
X-LIC-LOCATION:Europe/London
BEGIN:DAYLIGHT
TZOFFSETFROM:+0000
TZOFFSETTO:+0100
TZNAME:BST
DTSTART:20210328T020000Z
RRULE:FREQ=YEARLY;BYMONTH=3;BYDAY=-1SU
END:DAYLIGHT
BEGIN:STANDARD
TZOFFSETFROM:+0100
TZOFFSETTO:+0000
TZNAME:GMT
DTSTART:20211031T020000Z
RRULE:FREQ=YEARLY;BYMONTH=10;BYDAY=-1SU
END:STANDARD
END:VTIMEZONE
BEGIN:VEVENT
SUMMARY:[TESO] Спидраны ветеранских испыт
	аний Краглорна
DTSTAMP:20210120T125411Z
SEQUENCE:0
UID:8828-1-afb15bc42254ad5fb0481ce5e9c8144d@forum.bandits-clan.ru
ORGANIZER;CN="Winchester":web@bandits-clan.ru
DESCRIPTION:\n	Воскресенье 24 января\,
	 18:00 МСК\n\n\n\n	Закрыв
	аем подряд сп
	идраны Краглорн
	а (без хардмодов
	\, просто ветеран
	ки): Этерианский 
	архив\, Цитадель Х
	ель Ра\, Святилище
	 Офидии. Даже если
	 вам нужен 1 из тр
	ех\, приоритет б
	удет игрокам\, 
	которые пойдут
	 на все три триал
	а подряд. Спидран
	 - прохождение т
	риала за полчаса\
	, так что в идеал
	е нам хватит пол
	тора часа + загрузки и 
	пара перерывов по 5 минут ме
	жду триалами.\n\n\n\n	Требования:\n\n\n\n	
		Всем (12 человек): \n\n		\
	n				закрытые в
	етеранки/хм Крагл
	орна (на спидране тактику
	 объяснять никто не будет)\n			\n			\n	
				табарды\n			\n			\n				тимспик\n			\
	n			\n				еда\, ремонтные 
	комплекты\, зелья\, камни душ 
	в хорошем запасе\n			\n		\n	\n		ДД 
	(8 игроков): дпс мин
	имум 35к на 3 мл
	н. Некроманты 
	в мастер архи
	текте приветс
	твуются. Нужны хот
	я бы 2 человека с крашинг шок
	ом для верхнего босса в HRC
	.\n	\n	\n		Хилы (2 игрок
	а): наличие вариативност
	и сетов\, аттестация вет
	еран+\n	\n	\n		Танки (2 
	игрока): наличие ва
	риативности сетов\
	, аттестация ветера
	н+\n	\n\n	Решение о составе гр
	уппы остается за рейд-лидером.\n\n\
	n\n	 \n\n\n\n	ПРАВИЛА:\n\n\n\n		Не заход
	им в триал без коман
	ды.\n	\n	\n		Перемес
	тившись в триал ждем
	 разделения по групп
	ам от рейд-лидера.\n	
	\n	\n		Слушаем р
	ейд лидера вн
	имательно\, если сказа
	ли фокусить оверчардж
	ера - фокусим его.\n	\
	n	\n		Не флудить
	 в голосовой ч
	ат. Поддержив
	ать абсолютну
	ю тишину не обяз
	ательно\, но и 
	захламлять его
	 ненужной инфой не нужн
	о\, чтобы каждый слышал ком
	анды РЛа.\n	\n	\n		Не ждё
	м\, пока спадёт яд\
	, электичество и прочая ф
	игня\, летим\, чтобы волос
	ы назад.\n	\n	\n		Не лут
	аем мешки\, су
	ндуки и проче
	е\, только п
	осле убийс
	тва последн
	его босса мо
	жно пробежать
	 в обратном н
	аправлении и 
	залутать. Кт
	о будет это 
	делать в п
	роцессе пр
	охождения\, полу
	чит предупреждение.
	 Второго предупрежден
	ия не будет.\n	\n	\n		Не 
	забываем ресать уп
	авших\, это занима
	ет 15 секунд\, не ленитесь
	\, не заставляйте напо
	минать об этом.\n	\n	\n		Безд
	умно ресать тоже не над
	о.\n	\n	\n		Не отбиваем
	ся от группы\,
	 чтобы не приходилос
	ь ждать кого-то или 
	возвращаться реса
	ть.\n	\n	\n		Поставьте адд
	оны на автопочинку и автоз
	арядку оружия.\n	\n\n	 \n
	\n\n\n	Тактики (ВСЕМ ОЗНА
	КОМИТЬСЯ ПОВТОРНО ПЕРЕД ПО
	ХОДОМ):\n\n\n\n		Этерианский Архив\
	n	\n	\n		Цитадель Хель Ра\n	
	\n	\n		Святилище Офидии - самое 
	неприятное на нашем пути.\n	\
	n\n	 \n\n\n\n	Пишите в комментарии роль и ID\n
DTSTART:20210124T150000Z
ATTENDEE;CN="Winchester";CUTYPE=INDIVIDUAL;PARTSTAT=ACCEPTED
	:web@bandits-clan.ru
ATTENDEE;CN="F4N7";CUTYPE=INDIVIDUAL;PARTSTAT=ACCEPTED:web@b
	andits-clan.ru
ATTENDEE;CN="Weaver";CUTYPE=INDIVIDUAL;PARTSTAT=ACCEPTED:web
	@bandits-clan.ru
ATTENDEE;CN="Lihar";CUTYPE=INDIVIDUAL;PARTSTAT=ACCEPTED:web@
	bandits-clan.ru
ATTENDEE;CN="Solar";CUTYPE=INDIVIDUAL;PARTSTAT=ACCEPTED:web@
	bandits-clan.ru
ATTENDEE;CN="KateSnow";CUTYPE=INDIVIDUAL;PARTSTAT=ACCEPTED:w
	eb@bandits-clan.ru
ATTENDEE;CN="Kandibobier";CUTYPE=INDIVIDUAL;PARTSTAT=ACCEPTE
	D:web@bandits-clan.ru
ATTENDEE;CN="jaggalag";CUTYPE=INDIVIDUAL;PARTSTAT=ACCEPTED:w
	eb@bandits-clan.ru
ATTENDEE;CN="IDARKCATI";CUTYPE=INDIVIDUAL;PARTSTAT=ACCEPTED:
	web@bandits-clan.ru
ATTENDEE;CN="Hordent";CUTYPE=INDIVIDUAL;PARTSTAT=ACCEPTED:we
	b@bandits-clan.ru
END:VEVENT
END:VCALENDAR
