BEGIN:VCALENDAR
VERSION:2.0
PRODID:-//InvisionCommunity Events 4.7.14//EN
METHOD:PUBLISH
CALSCALE:GREGORIAN
REFRESH-INTERVAL:PT15M
X-PUBLISHED-TTL:PT15M
X-WR-CALNAME:The Elder Scrolls Online
NAME:The Elder Scrolls Online
BEGIN:VTIMEZONE
TZID:Europe/London
TZURL:http://tzurl.org/zoneinfo/Europe/London
X-LIC-LOCATION:Europe/London
BEGIN:DAYLIGHT
TZOFFSETFROM:+0000
TZOFFSETTO:+0100
TZNAME:BST
DTSTART:20210328T020000Z
RRULE:FREQ=YEARLY;BYMONTH=3;BYDAY=-1SU
END:DAYLIGHT
BEGIN:STANDARD
TZOFFSETFROM:+0100
TZOFFSETTO:+0000
TZNAME:GMT
DTSTART:20211031T020000Z
RRULE:FREQ=YEARLY;BYMONTH=10;BYDAY=-1SU
END:STANDARD
END:VTIMEZONE
BEGIN:VEVENT
SUMMARY:[TESO] Фармовое испытание Цита
	дель Хел-Ра (vHRC)
DTSTAMP:20210120T123110Z
SEQUENCE:0
UID:8827-1-afb15bc42254ad5fb0481ce5e9c8144d@forum.bandits-clan.ru
ORGANIZER;CN="Sinbann":web@bandits-clan.ru
DESCRIPTION:\n	В 19:00 по МСК приг
	лашаю всех желающих от
	 160 ОГ в звании Raider
	+ пройти ветеранскую ве
	рсию испытания \"Цита
	дель Хел-Ра\". \n\n\n\
	n	Для успешного прохожд
	ения нам потребуются:
	 2 танка\, 1 хил\, 8 
	ДД. Для запи
	си необходимо 
	нажать кнопку участи
	я сверху и написать свой игров
	ой ID и роль ниже.\n\n\n\n	 \n
	\n\n\n	Внимание\, тре
	буется минимальная аттестац
	ия (хилы\, танки нормал+\, дд 30к+) 
	\n\n\n\n	 \n\n\n\n	Дресскод
	 парадный (табард) со в
	сем необходимым (ремкомплект
	ы\, камни душ).\n\n\n\n	 \n\n\n\n	Обя
	зательно присутствие в 
	Teamspeak канал Фармовое ис
	пытание.\n\n	Сбор в гильдхоле з
	а 15 минут до начала триала.
	\n\n\n\n	 \n\n\n\n	Обязательно наличие аддонов:\
	n\n	Code Combat Alert\n\n	Raid Notifier\n\n\n\n	Око
	нчательное решение о составе групп
	ы остаётся за рейд-лидером\n
DTSTART:20210127T160000Z
ATTENDEE;CN="Sinbann";CUTYPE=INDIVIDUAL;PARTSTAT=ACCEPTED:we
	b@bandits-clan.ru
ATTENDEE;CN="LUTOVOLK48";CUTYPE=INDIVIDUAL;PARTSTAT=ACCEPTED
	:web@bandits-clan.ru
ATTENDEE;CN="Nbait";CUTYPE=INDIVIDUAL;PARTSTAT=ACCEPTED:web@
	bandits-clan.ru
ATTENDEE;CN="zumma";CUTYPE=INDIVIDUAL;PARTSTAT=ACCEPTED:web@
	bandits-clan.ru
ATTENDEE;CN="DarkLex";CUTYPE=INDIVIDUAL;PARTSTAT=ACCEPTED:we
	b@bandits-clan.ru
ATTENDEE;CN="RaidbroWait";CUTYPE=INDIVIDUAL;PARTSTAT=ACCEPTE
	D:web@bandits-clan.ru
END:VEVENT
END:VCALENDAR
