BEGIN:VCALENDAR
VERSION:2.0
PRODID:-//InvisionCommunity Events 4.7.14//EN
METHOD:PUBLISH
CALSCALE:GREGORIAN
REFRESH-INTERVAL:PT15M
X-PUBLISHED-TTL:PT15M
X-WR-CALNAME:The Elder Scrolls Online
NAME:The Elder Scrolls Online
BEGIN:VTIMEZONE
TZID:Europe/London
TZURL:http://tzurl.org/zoneinfo/Europe/London
X-LIC-LOCATION:Europe/London
BEGIN:DAYLIGHT
TZOFFSETFROM:+0000
TZOFFSETTO:+0100
TZNAME:BST
DTSTART:20210328T020000Z
RRULE:FREQ=YEARLY;BYMONTH=3;BYDAY=-1SU
END:DAYLIGHT
BEGIN:STANDARD
TZOFFSETFROM:+0100
TZOFFSETTO:+0000
TZNAME:GMT
DTSTART:20211031T020000Z
RRULE:FREQ=YEARLY;BYMONTH=10;BYDAY=-1SU
END:STANDARD
END:VTIMEZONE
BEGIN:VEVENT
SUMMARY:[TESO] Цитадель Хель Ра - Фармовое в
	ет. испытание
DTSTAMP:20210118T203845Z
SEQUENCE:0
UID:8819-1-afb15bc42254ad5fb0481ce5e9c8144d@forum.bandits-clan.ru
ORGANIZER;CN="Helenar":web@bandits-clan.ru
DESCRIPTION:\n	Приглашаю жел
	ающих от 300 ОГ в 12
	:00 по МСК пройти испыта
	ние vHRC (вет. Цитадель Хель
	 Ра)\n\n\n\n	Будут нужн
	ы: 2 хила\, 8 дд (Дл
	я подтверждени
	я нажимаем кноп
	ку \"Пойду\"\, ниже в
	 комментариях указывае
	м свой игровой ID и роль)\n\
	n\n\n	Требования:\n\n	ДД - ат
	тестация от 26к дпс\n\n	
	Хиллеры - аттестация нормал
	\n\n\n\n	Сбор начинается в 12:
	00\, если вас не буд
	ет к этому врем
	ени\, то ваше место м
	ожет занять любой 
	желающий из гильдии.\n\n\n
	\n	Обязательно прису
	тствие в Teamspeak\,
	 канал фар
	мовое испытан
	ие. Собираемся в гильдх
	олле (Большое топальское
	 убежище\, тп на @Kibert) \, у 
	вас должен быть табард.\n\n\n\n	Необх
	одимые аддоны:\n\n\n\n	Code Combat Alert\n\n	Raid Notifier\n\n
		Bandit User Interface\n\n\n\n	Обращаю ва
	ше внимание на
	 то\, что это не учебное испыта
	ние и отметки ставиться не будут.\n
DTSTART:20210123T090000Z
ATTENDEE;CN="Nivhooreel";CUTYPE=INDIVIDUAL;PARTSTAT=ACCEPTED
	:web@bandits-clan.ru
ATTENDEE;CN="Adnet";CUTYPE=INDIVIDUAL;PARTSTAT=ACCEPTED:web@
	bandits-clan.ru
ATTENDEE;CN="Ghost_77";CUTYPE=INDIVIDUAL;PARTSTAT=ACCEPTED:w
	eb@bandits-clan.ru
ATTENDEE;CN="Dsv911";CUTYPE=INDIVIDUAL;PARTSTAT=ACCEPTED:web
	@bandits-clan.ru
ATTENDEE;CN="F4N7";CUTYPE=INDIVIDUAL;PARTSTAT=ACCEPTED:web@b
	andits-clan.ru
ATTENDEE;CN="LUTOVOLK48";CUTYPE=INDIVIDUAL;PARTSTAT=ACCEPTED
	:web@bandits-clan.ru
ATTENDEE;CN="Magistr";CUTYPE=INDIVIDUAL;PARTSTAT=ACCEPTED:we
	b@bandits-clan.ru
ATTENDEE;CN="Hrom";CUTYPE=INDIVIDUAL;PARTSTAT=ACCEPTED:web@b
	andits-clan.ru
ATTENDEE;CN="zumma";CUTYPE=INDIVIDUAL;PARTSTAT=ACCEPTED:web@
	bandits-clan.ru
ATTENDEE;CN="Count";CUTYPE=INDIVIDUAL;PARTSTAT=ACCEPTED:web@
	bandits-clan.ru
END:VEVENT
END:VCALENDAR
