BEGIN:VCALENDAR
VERSION:2.0
PRODID:-//InvisionCommunity Events 4.7.14//EN
METHOD:PUBLISH
CALSCALE:GREGORIAN
REFRESH-INTERVAL:PT15M
X-PUBLISHED-TTL:PT15M
X-WR-CALNAME:The Elder Scrolls Online
NAME:The Elder Scrolls Online
BEGIN:VTIMEZONE
TZID:Europe/London
TZURL:http://tzurl.org/zoneinfo/Europe/London
X-LIC-LOCATION:Europe/London
BEGIN:DAYLIGHT
TZOFFSETFROM:+0000
TZOFFSETTO:+0100
TZNAME:BST
DTSTART:20210328T020000Z
RRULE:FREQ=YEARLY;BYMONTH=3;BYDAY=-1SU
END:DAYLIGHT
BEGIN:STANDARD
TZOFFSETFROM:+0100
TZOFFSETTO:+0000
TZNAME:GMT
DTSTART:20211031T020000Z
RRULE:FREQ=YEARLY;BYMONTH=10;BYDAY=-1SU
END:STANDARD
END:VTIMEZONE
BEGIN:VEVENT
SUMMARY:[TESO] Фармовое испытание Цита
	дель Хел-Ра (vHRC)
DTSTAMP:20210118T124336Z
SEQUENCE:0
UID:8817-1-afb15bc42254ad5fb0481ce5e9c8144d@forum.bandits-clan.ru
ORGANIZER;CN="Sinbann":web@bandits-clan.ru
DESCRIPTION:\n	В 16:00 по МСК приг
	лашаю всех желающих от
	 160 ОГ в звании Raider
	+ пройти ветеранскую ве
	рсию испытания \"Цита
	дель Хел-Ра\". \n\n\n\
	n	Для успешного прохожд
	ения нам потребуются:
	 2 танка\, 1 хил\, 8 ДД. 
	Для участия нео
	бходимо нажать кн
	опку \"Пойду\" справа п
	о курсу и написать свой игрово
	й ID и роль ниже.\n\n\n\n	 \n\
	n\n\n	Внимание\, треб
	уется минимальная аттестация
	 (хилы\, танки нормал+\, дд 30к+) \n
	\n\n\n	 \n\n\n\n	Дресскод
	 парадный (табард) со в
	сем необходимым (ремк
	омплекты\, камни душ).\n
	\n\n\n	Новичкам тоже буду
	 рада\, всë расскажу и покажу
	\n\n\n\n	Обязательно присутст
	вие в Teamspeak канал Фар
	мовое испытание.\
	n\n	Сбор в гильдхолле (Больш
	ое топальское убежище\, тп на 
	@Kibert) за 15 минут до начала триал
	а.\n\n\n\n	 \n\n\n\n	Обязательно наличие аддоно
	в:\n\n	Code Combat Alert\n\n	Raid Notifier\n\n\n\n	О
	кончательное решение о составе
	 группы остаётся за рейд-лидером\n
DTSTART:20210124T130000Z
END:VEVENT
END:VCALENDAR
