BEGIN:VCALENDAR
VERSION:2.0
PRODID:-//InvisionCommunity Events 4.7.14//EN
METHOD:PUBLISH
CALSCALE:GREGORIAN
REFRESH-INTERVAL:PT15M
X-PUBLISHED-TTL:PT15M
X-WR-CALNAME:The Elder Scrolls Online
NAME:The Elder Scrolls Online
BEGIN:VTIMEZONE
TZID:Europe/London
TZURL:http://tzurl.org/zoneinfo/Europe/London
X-LIC-LOCATION:Europe/London
BEGIN:DAYLIGHT
TZOFFSETFROM:+0000
TZOFFSETTO:+0100
TZNAME:BST
DTSTART:20210328T020000Z
RRULE:FREQ=YEARLY;BYMONTH=3;BYDAY=-1SU
END:DAYLIGHT
BEGIN:STANDARD
TZOFFSETFROM:+0100
TZOFFSETTO:+0000
TZNAME:GMT
DTSTART:20211031T020000Z
RRULE:FREQ=YEARLY;BYMONTH=10;BYDAY=-1SU
END:STANDARD
END:VTIMEZONE
BEGIN:VEVENT
SUMMARY:[TESO] Учебное испытание Залы Фабри
	кации (нормал)
DTSTAMP:20210117T180250Z
SEQUENCE:0
UID:8813-1-afb15bc42254ad5fb0481ce5e9c8144d@forum.bandits-clan.ru
ORGANIZER;CN="Skybae":web@bandits-clan.ru
DESCRIPTION:\n	В 21.00 по МСК\n\n\n\n	 \n\n\n\n	 \n\n\n\n	 
	\n\n\n\n	Приглашаю всех
	 желающих от 160 ОГ пройт
	и испытание \"Залы Фа
	брикации\" (nHof). Особе
	нно если это ваш первый триал\, зап
	исывайтесь!\n\n\n\n	 \n\n\n\n	 \n\n\n\n	 
	\n\n\n\n	Для похода 
	в данный триал у вас должн
	о быть дополнение Морровинд\n\n\n
	\n	 \n\n\n\n	Нужно: 12 человек\, 2 
	танк\, 2 хилера\, остальные - любые 
	дд.\n\n\n\n	 \n\n\n\n	Сбор в ТС\
	, канал - учебный
	 триал. Место вс
	тречи изменить нельз
	я (гильдхолл)\, дресс
	код - парадный(табарды)\, за 15 м
	инут до начала события.\n\n
	\n\n	 \n\n\n\n	Для участия на
	жимайте справа на
	 кнопку \"Пойду\"\, а в
	 комментарии внизу пишите свою ро
	ль и игровой ID.\n\n\n\n	 \n\n\n\n	
	P.S аддоны которые нужны для триалов:\n\n\n\n
		 \n\n\n\n	Code Combat Alert\n\n	Raid Notifier\n\n	Bandit User Interface\
	n\n\n\n	 \n\n\n\n	если вы не
	 знаете что так
	ое аддоны или н
	е успели их пост
	авить\, то для 
	нормал верси
	и это не крити
	чно\, но обя
	зательно пост
	авьте их если соберетесь идти на ветер
	анскую версию триала\n
DTSTART:20210120T174500Z
DTEND:20210120T190000Z
ATTENDEE;CN="StephenDedalus";CUTYPE=INDIVIDUAL;PARTSTAT=ACCE
	PTED:web@bandits-clan.ru
ATTENDEE;CN="vidarr";CUTYPE=INDIVIDUAL;PARTSTAT=ACCEPTED:web
	@bandits-clan.ru
ATTENDEE;CN="Pupezky";CUTYPE=INDIVIDUAL;PARTSTAT=ACCEPTED:we
	b@bandits-clan.ru
ATTENDEE;CN="Selena2105";CUTYPE=INDIVIDUAL;PARTSTAT=ACCEPTED
	:web@bandits-clan.ru
ATTENDEE;CN="mylordandru";CUTYPE=INDIVIDUAL;PARTSTAT=ACCEPTE
	D:web@bandits-clan.ru
ATTENDEE;CN="Hrom";CUTYPE=INDIVIDUAL;PARTSTAT=ACCEPTED:web@b
	andits-clan.ru
ATTENDEE;CN="gregorydj";CUTYPE=INDIVIDUAL;PARTSTAT=ACCEPTED:
	web@bandits-clan.ru
ATTENDEE;CN="Nbait";CUTYPE=INDIVIDUAL;PARTSTAT=ACCEPTED:web@
	bandits-clan.ru
ATTENDEE;CN="Magistr";CUTYPE=INDIVIDUAL;PARTSTAT=ACCEPTED:we
	b@bandits-clan.ru
ATTENDEE;CN="paradiys";CUTYPE=INDIVIDUAL;PARTSTAT=ACCEPTED:w
	eb@bandits-clan.ru
ATTENDEE;CN="FakeGod";CUTYPE=INDIVIDUAL;PARTSTAT=ACCEPTED:we
	b@bandits-clan.ru
ATTENDEE;CN="NickKrem";CUTYPE=INDIVIDUAL;PARTSTAT=ACCEPTED:w
	eb@bandits-clan.ru
ATTENDEE;CN="leartos";CUTYPE=INDIVIDUAL;PARTSTAT=ACCEPTED:we
	b@bandits-clan.ru
END:VEVENT
END:VCALENDAR
