BEGIN:VCALENDAR
VERSION:2.0
PRODID:-//InvisionCommunity Events 4.7.14//EN
METHOD:PUBLISH
CALSCALE:GREGORIAN
REFRESH-INTERVAL:PT15M
X-PUBLISHED-TTL:PT15M
X-WR-CALNAME:The Elder Scrolls Online
NAME:The Elder Scrolls Online
BEGIN:VTIMEZONE
TZID:Europe/London
TZURL:http://tzurl.org/zoneinfo/Europe/London
X-LIC-LOCATION:Europe/London
BEGIN:DAYLIGHT
TZOFFSETFROM:+0000
TZOFFSETTO:+0100
TZNAME:BST
DTSTART:20210328T020000Z
RRULE:FREQ=YEARLY;BYMONTH=3;BYDAY=-1SU
END:DAYLIGHT
BEGIN:STANDARD
TZOFFSETFROM:+0100
TZOFFSETTO:+0000
TZNAME:GMT
DTSTART:20211031T020000Z
RRULE:FREQ=YEARLY;BYMONTH=10;BYDAY=-1SU
END:STANDARD
END:VTIMEZONE
BEGIN:VEVENT
SUMMARY:(TESO) Мир приключений Тамриэл
	я (игра-квест)
DTSTAMP:20210117T125653Z
SEQUENCE:0
UID:8809-1-afb15bc42254ad5fb0481ce5e9c8144d@forum.bandits-clan.ru
ORGANIZER;CN="Bandit":web@bandits-clan.ru
DESCRIPTION:\n	С 14 00 по мск\n\n\n\n	 \n\n\n\
	n	Тимспик\, канал Мир прик
	лючений\n\n\n\n	 \n\n\n\n	
	Раскройте пре
	ступление\, спас
	ите принцессу\, убе
	йте нетча Вилкой 
	Щекотки!\n\n	Нев
	ероятные\, ужа
	сные\, прекрасные и удивительные истор
	ии Тамриэля ждут вас!\n
DTSTART:20210124T110000Z
END:VEVENT
END:VCALENDAR
