BEGIN:VCALENDAR
VERSION:2.0
PRODID:-//InvisionCommunity Events 4.7.14//EN
METHOD:PUBLISH
CALSCALE:GREGORIAN
REFRESH-INTERVAL:PT15M
X-PUBLISHED-TTL:PT15M
X-WR-CALNAME:The Elder Scrolls Online
NAME:The Elder Scrolls Online
BEGIN:VTIMEZONE
TZID:Europe/London
TZURL:http://tzurl.org/zoneinfo/Europe/London
X-LIC-LOCATION:Europe/London
BEGIN:DAYLIGHT
TZOFFSETFROM:+0000
TZOFFSETTO:+0100
TZNAME:BST
DTSTART:20210328T020000Z
RRULE:FREQ=YEARLY;BYMONTH=3;BYDAY=-1SU
END:DAYLIGHT
BEGIN:STANDARD
TZOFFSETFROM:+0100
TZOFFSETTO:+0000
TZNAME:GMT
DTSTART:20211031T020000Z
RRULE:FREQ=YEARLY;BYMONTH=10;BYDAY=-1SU
END:STANDARD
END:VTIMEZONE
BEGIN:VEVENT
SUMMARY:[TESO] Фармовое испытание Цитадел
	ь Хель Ра (вет.)
DTSTAMP:20210116T174325Z
SEQUENCE:0
UID:8806-1-afb15bc42254ad5fb0481ce5e9c8144d@forum.bandits-clan.ru
ORGANIZER;CN="Helenar":web@bandits-clan.ru
DESCRIPTION:\n	Приглашаю жел
	ающих от 300 ОГ в 21
	:00 по МСК пройти испыта
	ние vHRC (вет. Цитадель Хель
	 Ра)\n\n\n\n	Будут нужн
	ы: 2 хила\, 8 дд (Дл
	я подтверждени
	я нажимаем кноп
	ку \"Пойду\"\, ниже в
	 комментариях указывае
	м свой игровой ID и роль)\n\
	n\n\n	Требования:\n\n	ДД - ат
	тестация от 26к дпс\n\n	
	Хиллеры - аттестация нормал
	\n\n\n\n	Сбор начинается в 21\
	,00\, если вас не бу
	дет к этому вр
	емени\, то ваше место
	 может занять любо
	й желающий из гильдии.\n\n
	\n\n	Обязательно прису
	тствие в Teamspeak\,
	 канал фар
	мовое испытан
	ие. Собираемся в гильдх
	олле (Большое топальское
	 убежище\, тп на @Kibert) \, у 
	вас должен быть табард.\n\n\n\n	Необх
	одимые аддоны:\n\n\n\n	Code Combat Alert\nRaid Notifier\nBandi
	t User Interface\n\n\n\n	Обращаю ваш
	е внимание на 
	то\, что это не учебное испытани
	е и отметки ставиться не будут.\n
DTSTART:20210118T180000Z
ATTENDEE;CN="VladRevenant";CUTYPE=INDIVIDUAL;PARTSTAT=ACCEPT
	ED:web@bandits-clan.ru
ATTENDEE;CN="Hrom";CUTYPE=INDIVIDUAL;PARTSTAT=ACCEPTED:web@b
	andits-clan.ru
ATTENDEE;CN="JohnDoe82";CUTYPE=INDIVIDUAL;PARTSTAT=ACCEPTED:
	web@bandits-clan.ru
ATTENDEE;CN="DarkLex";CUTYPE=INDIVIDUAL;PARTSTAT=ACCEPTED:we
	b@bandits-clan.ru
ATTENDEE;CN="Count";CUTYPE=INDIVIDUAL;PARTSTAT=ACCEPTED:web@
	bandits-clan.ru
ATTENDEE;CN="zumma";CUTYPE=INDIVIDUAL;PARTSTAT=ACCEPTED:web@
	bandits-clan.ru
ATTENDEE;CN="Urse";CUTYPE=INDIVIDUAL;PARTSTAT=ACCEPTED:web@b
	andits-clan.ru
ATTENDEE;CN="Nbait";CUTYPE=INDIVIDUAL;PARTSTAT=ACCEPTED:web@
	bandits-clan.ru
ATTENDEE;CN="Den13ka";CUTYPE=INDIVIDUAL;PARTSTAT=ACCEPTED:we
	b@bandits-clan.ru
ATTENDEE;CN="Sinbann";CUTYPE=INDIVIDUAL;PARTSTAT=ACCEPTED:we
	b@bandits-clan.ru
ATTENDEE;CN="Helenar";CUTYPE=INDIVIDUAL;PARTSTAT=ACCEPTED:we
	b@bandits-clan.ru
ATTENDEE;CN="Canis";CUTYPE=INDIVIDUAL;PARTSTAT=ACCEPTED:web@
	bandits-clan.ru
END:VEVENT
END:VCALENDAR
