BEGIN:VCALENDAR
VERSION:2.0
PRODID:-//InvisionCommunity Events 4.7.14//EN
METHOD:PUBLISH
CALSCALE:GREGORIAN
REFRESH-INTERVAL:PT15M
X-PUBLISHED-TTL:PT15M
X-WR-CALNAME:The Elder Scrolls Online
NAME:The Elder Scrolls Online
BEGIN:VTIMEZONE
TZID:Europe/London
TZURL:http://tzurl.org/zoneinfo/Europe/London
X-LIC-LOCATION:Europe/London
BEGIN:DAYLIGHT
TZOFFSETFROM:+0000
TZOFFSETTO:+0100
TZNAME:BST
DTSTART:20210328T020000Z
RRULE:FREQ=YEARLY;BYMONTH=3;BYDAY=-1SU
END:DAYLIGHT
BEGIN:STANDARD
TZOFFSETFROM:+0100
TZOFFSETTO:+0000
TZNAME:GMT
DTSTART:20211031T020000Z
RRULE:FREQ=YEARLY;BYMONTH=10;BYDAY=-1SU
END:STANDARD
END:VTIMEZONE
BEGIN:VEVENT
SUMMARY:[TESO] Этерианский Архив - уч
	ебное хардмод испытание
DTSTAMP:20210116T171744Z
SEQUENCE:0
UID:8805-1-afb15bc42254ad5fb0481ce5e9c8144d@forum.bandits-clan.ru
ORGANIZER;CN="VladRevenant":web@bandits-clan.ru
DESCRIPTION:\n	Приглашаю жела
	ющих от 500 ОГ в 19
	:00 по МСК науч
	иться проходить испы
	тание hmAA (хард-мод Этериа
	нский архив)\n\n\n\n	Будут
	 нужны: 2 танк\, 2 х
	ила\, 8 дд (Для п
	одтверждения 
	нажимаем кнопку
	 \"Пойду\"\, ниже в ком
	ментариях указываем свой
	 игровой ID и роль)\n\n\n\n	Тр
	ебования:\n\n	ДД - аттестация от
	 30к дпс\, звание Bandit\n\n	Танки - 
	аттестация нормал\, зва
	ние Bandit\n\n	Хиллеры - аттестация н
	ормал\, звание Bandit\n\n\n\n	Сбо
	р в гильдхолле за 10-15 минут до 
	начала (18:45-18:50)\, за
	ходим в ТС\, ка
	нал Учебное  и
	спытание (Нахо
	ждение в ТС обязат
	ельно! Можно без г
	олоса\, но с возмо
	жностью слушать)\n\
	n	Незабываем про: Табард
	ы\, Камни душ\, Рем.ком
	плекты\, Банки\n\n\n
	\n	После успеш
	ного прохождения 
	данного хард-мода\, всем будут проставл
	ены отметки!\n\n\n\n	 \n
DTSTART:20210123T160000Z
DTEND:20210123T193000Z
ATTENDEE;CN="VladRevenant";CUTYPE=INDIVIDUAL;PARTSTAT=ACCEPT
	ED:web@bandits-clan.ru
ATTENDEE;CN="Helenar";CUTYPE=INDIVIDUAL;PARTSTAT=ACCEPTED:we
	b@bandits-clan.ru
ATTENDEE;CN="F4N7";CUTYPE=INDIVIDUAL;PARTSTAT=ACCEPTED:web@b
	andits-clan.ru
ATTENDEE;CN="VoronNika";CUTYPE=INDIVIDUAL;PARTSTAT=ACCEPTED:
	web@bandits-clan.ru
ATTENDEE;CN="vidarr";CUTYPE=INDIVIDUAL;PARTSTAT=ACCEPTED:web
	@bandits-clan.ru
ATTENDEE;CN="Dushman";CUTYPE=INDIVIDUAL;PARTSTAT=ACCEPTED:we
	b@bandits-clan.ru
ATTENDEE;CN="Count";CUTYPE=INDIVIDUAL;PARTSTAT=ACCEPTED:web@
	bandits-clan.ru
ATTENDEE;CN="Hrom";CUTYPE=INDIVIDUAL;PARTSTAT=ACCEPTED:web@b
	andits-clan.ru
ATTENDEE;CN="RevanxDark";CUTYPE=INDIVIDUAL;PARTSTAT=ACCEPTED
	:web@bandits-clan.ru
ATTENDEE;CN="Demirurg";CUTYPE=INDIVIDUAL;PARTSTAT=ACCEPTED:w
	eb@bandits-clan.ru
END:VEVENT
END:VCALENDAR
