BEGIN:VCALENDAR
VERSION:2.0
PRODID:-//InvisionCommunity Events 4.7.14//EN
METHOD:PUBLISH
CALSCALE:GREGORIAN
REFRESH-INTERVAL:PT15M
X-PUBLISHED-TTL:PT15M
X-WR-CALNAME:The Elder Scrolls Online
NAME:The Elder Scrolls Online
BEGIN:VTIMEZONE
TZID:Europe/London
TZURL:http://tzurl.org/zoneinfo/Europe/London
X-LIC-LOCATION:Europe/London
BEGIN:DAYLIGHT
TZOFFSETFROM:+0000
TZOFFSETTO:+0100
TZNAME:BST
DTSTART:20210328T020000Z
RRULE:FREQ=YEARLY;BYMONTH=3;BYDAY=-1SU
END:DAYLIGHT
BEGIN:STANDARD
TZOFFSETFROM:+0100
TZOFFSETTO:+0000
TZNAME:GMT
DTSTART:20211031T020000Z
RRULE:FREQ=YEARLY;BYMONTH=10;BYDAY=-1SU
END:STANDARD
END:VTIMEZONE
BEGIN:VEVENT
SUMMARY:[TESO] Учебное испытание 
	hmHRC (хард-мод Цитадель Хель Ра)
DTSTAMP:20210116T171237Z
SEQUENCE:0
UID:8804-1-afb15bc42254ad5fb0481ce5e9c8144d@forum.bandits-clan.ru
ORGANIZER;CN="VladRevenant":web@bandits-clan.ru
DESCRIPTION:\n	 \n\n\n\n	Приглашаю же
	лающих от 500 ОГ в 1
	9:00 по МСК научи
	ться проходить испытан
	ие hmHRC (хард-мод Цитадель Хе
	ль Ра)\n\n\n\n	Будут нужны:
	 2 танк\, 2 хила\, 8 д
	д (Для подтвер
	ждения нажима
	ем кнопку \"Пой
	ду\"\, ниже в коммента
	риях указываем свой игро
	вой ID и роль)\n\n\n\n	Требова
	ния:\n\n	ДД - аттестация от 30к 
	дпс\, звание Bandit\n\n	Танки - ат
	тестация нормал\, звание 
	Bandit\n\n	Хиллеры - аттестация норм
	ал\, звание Bandit\n\n\n\n	Сбор в ги
	льдхолле за 10-15 минут до начал
	а (18:45-18:50)\, заходим в
	 ТС\, канал Уче
	бное  испытание
	 (Нахождение в 
	ТС обязательно!
	 Можно без голоса
	\, но с возможность
	ю слушать)\nНезабыва
	ем про: Табарды\, Камни
	 душ\, Рем.комплекты\
	, Банки\n\n\n\n	Посл
	е успешного
	 прохождения данного
	 хард-мода\, всем будут проставлены отм
	етки!\n\n	 \n\n\n\n	 \n
DTSTART:20210121T160000Z
DTEND:20210121T190000Z
ATTENDEE;CN="VladRevenant";CUTYPE=INDIVIDUAL;PARTSTAT=ACCEPT
	ED:web@bandits-clan.ru
ATTENDEE;CN="Helenar";CUTYPE=INDIVIDUAL;PARTSTAT=ACCEPTED:we
	b@bandits-clan.ru
ATTENDEE;CN="VoronNika";CUTYPE=INDIVIDUAL;PARTSTAT=ACCEPTED:
	web@bandits-clan.ru
ATTENDEE;CN="GUYKA";CUTYPE=INDIVIDUAL;PARTSTAT=ACCEPTED:web@
	bandits-clan.ru
ATTENDEE;CN="vidarr";CUTYPE=INDIVIDUAL;PARTSTAT=ACCEPTED:web
	@bandits-clan.ru
ATTENDEE;CN="F4N7";CUTYPE=INDIVIDUAL;PARTSTAT=ACCEPTED:web@b
	andits-clan.ru
ATTENDEE;CN="Anhert";CUTYPE=INDIVIDUAL;PARTSTAT=ACCEPTED:web
	@bandits-clan.ru
ATTENDEE;CN="Sotona88";CUTYPE=INDIVIDUAL;PARTSTAT=ACCEPTED:w
	eb@bandits-clan.ru
ATTENDEE;CN="Dushman";CUTYPE=INDIVIDUAL;PARTSTAT=ACCEPTED:we
	b@bandits-clan.ru
ATTENDEE;CN="StarF0xy";CUTYPE=INDIVIDUAL;PARTSTAT=ACCEPTED:w
	eb@bandits-clan.ru
ATTENDEE;CN="yovv";CUTYPE=INDIVIDUAL;PARTSTAT=ACCEPTED:web@b
	andits-clan.ru
ATTENDEE;CN="Hrom";CUTYPE=INDIVIDUAL;PARTSTAT=ACCEPTED:web@b
	andits-clan.ru
END:VEVENT
END:VCALENDAR
